BEGIN:VCALENDAR
VERSION:2.0
PRODID:-//Truck News - ECPv6.15.20//NONSGML v1.0//EN
CALSCALE:GREGORIAN
METHOD:PUBLISH
X-WR-CALNAME:Truck News
X-ORIGINAL-URL:https://www.trucknews.com
X-WR-CALDESC:Events for Truck News
REFRESH-INTERVAL;VALUE=DURATION:PT1H
X-Robots-Tag:noindex
X-PUBLISHED-TTL:PT1H
BEGIN:VTIMEZONE
TZID:America/Toronto
BEGIN:DAYLIGHT
TZOFFSETFROM:-0500
TZOFFSETTO:-0400
TZNAME:EDT
DTSTART:20200308T070000
END:DAYLIGHT
BEGIN:STANDARD
TZOFFSETFROM:-0400
TZOFFSETTO:-0500
TZNAME:EST
DTSTART:20201101T060000
END:STANDARD
BEGIN:DAYLIGHT
TZOFFSETFROM:-0500
TZOFFSETTO:-0400
TZNAME:EDT
DTSTART:20210314T070000
END:DAYLIGHT
BEGIN:STANDARD
TZOFFSETFROM:-0400
TZOFFSETTO:-0500
TZNAME:EST
DTSTART:20211107T060000
END:STANDARD
BEGIN:DAYLIGHT
TZOFFSETFROM:-0500
TZOFFSETTO:-0400
TZNAME:EDT
DTSTART:20220313T070000
END:DAYLIGHT
BEGIN:STANDARD
TZOFFSETFROM:-0400
TZOFFSETTO:-0500
TZNAME:EST
DTSTART:20221106T060000
END:STANDARD
END:VTIMEZONE
BEGIN:VEVENT
DTSTART;TZID=America/Toronto:20210310T100000
DTEND;TZID=America/Toronto:20210310T160000
DTSTAMP:20260421T210512
CREATED:20201204T122125Z
LAST-MODIFIED:20201204T122125Z
UID:1003147055-1615370400-1615392000@www.trucknews.com
SUMMARY:Women with Drive 2021 - Trucking HR virtual event
DESCRIPTION:
URL:https://www.trucknews.com/event/women-with-drive-2021-trucking-hr-virtual-event/
LOCATION:Ontario
END:VEVENT
END:VCALENDAR