BEGIN:VCALENDAR
VERSION:2.0
PRODID:-//Truck News - ECPv6.15.20//NONSGML v1.0//EN
CALSCALE:GREGORIAN
METHOD:PUBLISH
X-WR-CALNAME:Truck News
X-ORIGINAL-URL:https://www.trucknews.com
X-WR-CALDESC:Events for Truck News
REFRESH-INTERVAL;VALUE=DURATION:PT1H
X-Robots-Tag:noindex
X-PUBLISHED-TTL:PT1H
BEGIN:VTIMEZONE
TZID:America/Toronto
BEGIN:DAYLIGHT
TZOFFSETFROM:-0500
TZOFFSETTO:-0400
TZNAME:EDT
DTSTART:20200308T070000
END:DAYLIGHT
BEGIN:STANDARD
TZOFFSETFROM:-0400
TZOFFSETTO:-0500
TZNAME:EST
DTSTART:20201101T060000
END:STANDARD
BEGIN:DAYLIGHT
TZOFFSETFROM:-0500
TZOFFSETTO:-0400
TZNAME:EDT
DTSTART:20210314T070000
END:DAYLIGHT
BEGIN:STANDARD
TZOFFSETFROM:-0400
TZOFFSETTO:-0500
TZNAME:EST
DTSTART:20211107T060000
END:STANDARD
BEGIN:DAYLIGHT
TZOFFSETFROM:-0500
TZOFFSETTO:-0400
TZNAME:EDT
DTSTART:20220313T070000
END:DAYLIGHT
BEGIN:STANDARD
TZOFFSETFROM:-0400
TZOFFSETTO:-0500
TZNAME:EST
DTSTART:20221106T060000
END:STANDARD
END:VTIMEZONE
BEGIN:VEVENT
DTSTART;VALUE=DATE:20210724
DTEND;VALUE=DATE:20210725
DTSTAMP:20260421T144733
CREATED:20210323T160907Z
LAST-MODIFIED:20210722T195840Z
UID:1003149835-1627084800-1627171199@www.trucknews.com
SUMMARY:Rodeo Du Camion 40th Edition
DESCRIPTION:The Truck Rodeo in Notre-Dame-du-Nord\, Québec\, offers plenty of entertainment\, prizes and activities
URL:https://www.trucknews.com/event/rodeo-du-camion-40th-edition/
LOCATION:Ontario
END:VEVENT
BEGIN:VEVENT
DTSTART;VALUE=DATE:20210729
DTEND;VALUE=DATE:20210801
DTSTAMP:20260421T144733
CREATED:20210513T195916Z
LAST-MODIFIED:20210513T195916Z
UID:1003151117-1627516800-1627775999@www.trucknews.com
SUMMARY:39th annual Shell Rotella SuperRigs
DESCRIPTION:The three-day event at Love’s Truck Stop in Hampshire\, Ill. (located right off Route I-90 and US 20) will honor truck drivers for their hard work. The Shell Rotella SuperRigs competition is a beauty contest for actively working trucks. Owner/operator truck drivers from across the United States and Canada compete annually for more than $25\,000 in cash and prizes. Eleven drivers will be selected to have their trucks featured in the 2022 Shell Rotella SuperRigs calendar. The 12th truck will be the 2016 Peterbilt 389 of Brian Dreher who won Best of Shoat at the virtual contest held in 2020. \n 
URL:https://www.trucknews.com/event/39th-annual-shell-rotella-superrigs/
LOCATION:Ontario
END:VEVENT
END:VCALENDAR