BEGIN:VCALENDAR
VERSION:2.0
PRODID:-//Truck News - ECPv6.15.20//NONSGML v1.0//EN
CALSCALE:GREGORIAN
METHOD:PUBLISH
X-ORIGINAL-URL:https://www.trucknews.com
X-WR-CALDESC:Events for Truck News
REFRESH-INTERVAL;VALUE=DURATION:PT1H
X-Robots-Tag:noindex
X-PUBLISHED-TTL:PT1H
BEGIN:VTIMEZONE
TZID:America/Toronto
BEGIN:DAYLIGHT
TZOFFSETFROM:-0500
TZOFFSETTO:-0400
TZNAME:EDT
DTSTART:20210314T070000
END:DAYLIGHT
BEGIN:STANDARD
TZOFFSETFROM:-0400
TZOFFSETTO:-0500
TZNAME:EST
DTSTART:20211107T060000
END:STANDARD
BEGIN:DAYLIGHT
TZOFFSETFROM:-0500
TZOFFSETTO:-0400
TZNAME:EDT
DTSTART:20220313T070000
END:DAYLIGHT
BEGIN:STANDARD
TZOFFSETFROM:-0400
TZOFFSETTO:-0500
TZNAME:EST
DTSTART:20221106T060000
END:STANDARD
BEGIN:DAYLIGHT
TZOFFSETFROM:-0500
TZOFFSETTO:-0400
TZNAME:EDT
DTSTART:20230312T070000
END:DAYLIGHT
BEGIN:STANDARD
TZOFFSETFROM:-0400
TZOFFSETTO:-0500
TZNAME:EST
DTSTART:20231105T060000
END:STANDARD
END:VTIMEZONE
BEGIN:VTIMEZONE
TZID:America/Los_Angeles
BEGIN:DAYLIGHT
TZOFFSETFROM:-0800
TZOFFSETTO:-0700
TZNAME:PDT
DTSTART:20210314T100000
END:DAYLIGHT
BEGIN:STANDARD
TZOFFSETFROM:-0700
TZOFFSETTO:-0800
TZNAME:PST
DTSTART:20211107T090000
END:STANDARD
BEGIN:DAYLIGHT
TZOFFSETFROM:-0800
TZOFFSETTO:-0700
TZNAME:PDT
DTSTART:20220313T100000
END:DAYLIGHT
BEGIN:STANDARD
TZOFFSETFROM:-0700
TZOFFSETTO:-0800
TZNAME:PST
DTSTART:20221106T090000
END:STANDARD
BEGIN:DAYLIGHT
TZOFFSETFROM:-0800
TZOFFSETTO:-0700
TZNAME:PDT
DTSTART:20230312T100000
END:DAYLIGHT
BEGIN:STANDARD
TZOFFSETFROM:-0700
TZOFFSETTO:-0800
TZNAME:PST
DTSTART:20231105T090000
END:STANDARD
END:VTIMEZONE
BEGIN:VEVENT
DTSTART;VALUE=DATE:20220105
DTEND;VALUE=DATE:20220109
DTSTAMP:20260421T053455
CREATED:20211112T151926Z
LAST-MODIFIED:20220107T133652Z
UID:1003154904-1641340800-1641686399@www.trucknews.com
SUMMARY:Consumer Electronics Show 2022
DESCRIPTION:CES 2022 offers the next generation of innovation with more than 1\,600 companies showcasing the latest technology.
URL:https://www.trucknews.com/event/consumer-electronics-show-2022/
LOCATION:Las Vegas\, NV
END:VEVENT
BEGIN:VEVENT
DTSTART;VALUE=DATE:20220115
DTEND;VALUE=DATE:20220120
DTSTAMP:20260421T053455
CREATED:20211112T153109Z
LAST-MODIFIED:20220117T141021Z
UID:1003154908-1642204800-1642636799@www.trucknews.com
SUMMARY:Private Fleet Management Institute
DESCRIPTION:National Private Truck Council’s Private Fleet Management Institute is a five-day intensive educational program offering courses on Fleet Finance\, Operations\, Legal\, Regulatory and Safety Compliance\, Human Resources\, Maintenance and Equipment.
URL:https://www.trucknews.com/event/private-fleet-management-institute/
LOCATION:Jacksonville River City Downtown Hotel\, Jacksonville\, FL\, United States
END:VEVENT
BEGIN:VEVENT
DTSTART;TZID=America/Los_Angeles:20220117T160000
DTEND;TZID=America/Los_Angeles:20220120T100000
DTSTAMP:20260421T053455
CREATED:20211112T154710Z
LAST-MODIFIED:20211112T154710Z
UID:1003154912-1642435200-1642672800@www.trucknews.com
SUMMARY:National Biodiesel Conference and Expo
DESCRIPTION:2022 National Biodiesel Conference and Expo
URL:https://www.trucknews.com/event/national-biodiesel-conference-and-expo-3/
LOCATION:Mandalay Bay Resort and Casino\,\, 3950 S Las Vegas Blvd\, Las Vegas\, NV\, 89119\, United States
END:VEVENT
BEGIN:VEVENT
DTSTART;VALUE=DATE:20220118
DTEND;VALUE=DATE:20220121
DTSTAMP:20260421T053455
CREATED:20211112T155949Z
LAST-MODIFIED:20211112T155949Z
UID:1003154914-1642464000-1642723199@www.trucknews.com
SUMMARY:SAE’s Government/Industry Meeting
DESCRIPTION:The annual conference provides government\, regulatory and policy makers\, and the automotive industry a neutral forum to discuss the effects of government regulations\, new and forthcoming technologies\, and consumer expectations on vehicle design.
URL:https://www.trucknews.com/event/saes-government-industry-meeting-2/
LOCATION:Washington\, D.C.
END:VEVENT
BEGIN:VEVENT
DTSTART;VALUE=DATE:20220118
DTEND;VALUE=DATE:20220121
DTSTAMP:20260421T053455
CREATED:20211112T161433Z
LAST-MODIFIED:20211112T161433Z
UID:1003154918-1642464000-1642723199@www.trucknews.com
SUMMARY:World of Concrete
DESCRIPTION:World of Concrete offers knowledge\, equipment and connections to keep grinding it out through disruptions to the supply chain\, safety and beyond.
URL:https://www.trucknews.com/event/world-of-concrete-5/
LOCATION:Las Vegas Convention Center\, 3150 Paradise Rd\, Las Vegas\, NV\, 89109\, United States
END:VEVENT
BEGIN:VEVENT
DTSTART;VALUE=DATE:20220124
DTEND;VALUE=DATE:20220125
DTSTAMP:20260421T053455
CREATED:20211112T162704Z
LAST-MODIFIED:20220107T133812Z
UID:1003154924-1642982400-1643068799@www.trucknews.com
SUMMARY:Heavy Duty Aftermarket Dialogue
DESCRIPTION:ntnHeavy Duty Aftermarket Dialogue is an outlook conference\, specifically directed toward the heavy duty aftermarket supplier industry\, intended to provide an in-depth view of the prospects for the global\, heavy duty industry’s aftermarket component.
URL:https://www.trucknews.com/event/heavy-duty-aftermarket-dialogue/
LOCATION:Grapevine\, Texas
END:VEVENT
BEGIN:VEVENT
DTSTART;VALUE=DATE:20220124
DTEND;VALUE=DATE:20220128
DTSTAMP:20260421T053455
CREATED:20211112T163635Z
LAST-MODIFIED:20211112T163635Z
UID:1003154928-1642982400-1643327999@www.trucknews.com
SUMMARY:Heavy Duty Aftermarket Week
DESCRIPTION:The event offers the opportunity to engage with peers and prospective customers face-to-face\, network with industry veterans and new businesses.
URL:https://www.trucknews.com/event/heavy-duty-aftermarket-week-6/
LOCATION:Gaylord Texan Resort & Convention Center\, 1501 Gaylord Trail\, Grapevine\, TX\, 76051\, United States
END:VEVENT
BEGIN:VEVENT
DTSTART;VALUE=DATE:20220124
DTEND;VALUE=DATE:20220129
DTSTAMP:20260421T053455
CREATED:20211112T164917Z
LAST-MODIFIED:20211112T164917Z
UID:1003154934-1642982400-1643414399@www.trucknews.com
SUMMARY:CVSA’s COHMED Conference
DESCRIPTION:Presented by the Cooperative Hazardous Materials Enforcement Development (COHMED) program\, the Commercial Vehicle Safety Alliance’s event is for individuals and organizations involved in the regulation\, enforcement and safety of transporting hazardous materials and dangerous goods. It provides an opportunity for the hazmat community to present concerns and perspectives about enforcement of regulations.
URL:https://www.trucknews.com/event/cvsas-cohmed-conference/
LOCATION:San Diego\, CA
END:VEVENT
BEGIN:VEVENT
DTSTART;TZID=America/Toronto:20220127T110000
DTEND;TZID=America/Toronto:20220127T110000
DTSTAMP:20260421T053455
CREATED:20220107T135747Z
LAST-MODIFIED:20220107T135747Z
UID:1003156173-1643281200-1643281200@www.trucknews.com
SUMMARY:NATCA Joint Virtual Panel
DESCRIPTION:North American Transportation Club Alliance’s event.
URL:https://www.trucknews.com/event/natca-joint-virtual-panel/
LOCATION:Ontario
END:VEVENT
END:VCALENDAR