BEGIN:VCALENDAR
VERSION:2.0
PRODID:-//Truck News - ECPv6.15.20//NONSGML v1.0//EN
CALSCALE:GREGORIAN
METHOD:PUBLISH
X-ORIGINAL-URL:https://www.trucknews.com
X-WR-CALDESC:Events for Truck News
REFRESH-INTERVAL;VALUE=DURATION:PT1H
X-Robots-Tag:noindex
X-PUBLISHED-TTL:PT1H
BEGIN:VTIMEZONE
TZID:America/Toronto
BEGIN:DAYLIGHT
TZOFFSETFROM:-0500
TZOFFSETTO:-0400
TZNAME:EDT
DTSTART:20210314T070000
END:DAYLIGHT
BEGIN:STANDARD
TZOFFSETFROM:-0400
TZOFFSETTO:-0500
TZNAME:EST
DTSTART:20211107T060000
END:STANDARD
BEGIN:DAYLIGHT
TZOFFSETFROM:-0500
TZOFFSETTO:-0400
TZNAME:EDT
DTSTART:20220313T070000
END:DAYLIGHT
BEGIN:STANDARD
TZOFFSETFROM:-0400
TZOFFSETTO:-0500
TZNAME:EST
DTSTART:20221106T060000
END:STANDARD
BEGIN:DAYLIGHT
TZOFFSETFROM:-0500
TZOFFSETTO:-0400
TZNAME:EDT
DTSTART:20230312T070000
END:DAYLIGHT
BEGIN:STANDARD
TZOFFSETFROM:-0400
TZOFFSETTO:-0500
TZNAME:EST
DTSTART:20231105T060000
END:STANDARD
END:VTIMEZONE
BEGIN:VEVENT
DTSTART;VALUE=DATE:20220206
DTEND;VALUE=DATE:20220209
DTSTAMP:20260421T033611
CREATED:20220104T201739Z
LAST-MODIFIED:20220104T201739Z
UID:1003156098-1644105600-1644364799@www.trucknews.com
SUMMARY:ATA executive committee meeting
DESCRIPTION:American Trucking Associations’ executive committee meeting
URL:https://www.trucknews.com/event/ata-executive-committee-meeting/
LOCATION:Austin\, Texas
END:VEVENT
BEGIN:VEVENT
DTSTART;VALUE=DATE:20220220
DTEND;VALUE=DATE:20220224
DTSTAMP:20260421T033611
CREATED:20211112T171119Z
LAST-MODIFIED:20211112T171119Z
UID:1003154938-1645315200-1645660799@www.trucknews.com
SUMMARY:RILA LINK 2022: The Retail Supply Chain Conference
DESCRIPTION:The event gathers top executives in retail supply chain to network and learn from each other through case studies\, best practices\, and expert thought leadership.
URL:https://www.trucknews.com/event/rila-link-2022-the-retail-supply-chain-conference/
LOCATION:Gaylord Texan Resort & Convention Center\, 1501 Gaylord Trail\, Grapevine\, TX\, 76051\, United States
END:VEVENT
BEGIN:VEVENT
DTSTART;VALUE=DATE:20220222
DTEND;VALUE=DATE:20220225
DTSTAMP:20260421T033611
CREATED:20211112T173643Z
LAST-MODIFIED:20220224T133450Z
UID:1003154940-1645488000-1645747199@www.trucknews.com
SUMMARY:ACT Commercial Vehicle & Transportation Outlook Seminar 66
DESCRIPTION:The seminar will feature sessions from prominent industry guests and ACT Research staff and provide opportunities to network and connect with industry colleagues. It will focus on the role battery and fuel cell electric and autonomous commercial vehicles will play in the near future.
URL:https://www.trucknews.com/event/act-commercial-vehicle-transportation-outlook-seminar-66/
LOCATION:The Commons\, Columbus\, Indiana
END:VEVENT
BEGIN:VEVENT
DTSTART;VALUE=DATE:20220222
DTEND;VALUE=DATE:20220225
DTSTAMP:20260421T033611
CREATED:20211118T164955Z
LAST-MODIFIED:20220224T133529Z
UID:1003155183-1645488000-1645747199@www.trucknews.com
SUMMARY:Human Trafficking Awareness Initiative
DESCRIPTION:The Commercial Vehicle Safety Alliance will shine a light on human trafficking with a three-day Human Trafficking Awareness Initiative to be held in the U.S. and Canada. The awareness and outreach effort will look to educate commercial drivers\, motor carriers and others about the crime\, signs to look for\, and what to do if you think someone is being trafficked.
URL:https://www.trucknews.com/event/human-trafficking-awareness-initiative/
LOCATION:Ontario
END:VEVENT
END:VCALENDAR