BEGIN:VCALENDAR
VERSION:2.0
PRODID:-//Truck News - ECPv6.15.20//NONSGML v1.0//EN
CALSCALE:GREGORIAN
METHOD:PUBLISH
X-WR-CALNAME:Truck News
X-ORIGINAL-URL:https://www.trucknews.com
X-WR-CALDESC:Events for Truck News
REFRESH-INTERVAL;VALUE=DURATION:PT1H
X-Robots-Tag:noindex
X-PUBLISHED-TTL:PT1H
BEGIN:VTIMEZONE
TZID:America/Toronto
BEGIN:DAYLIGHT
TZOFFSETFROM:-0500
TZOFFSETTO:-0400
TZNAME:EDT
DTSTART:20210314T070000
END:DAYLIGHT
BEGIN:STANDARD
TZOFFSETFROM:-0400
TZOFFSETTO:-0500
TZNAME:EST
DTSTART:20211107T060000
END:STANDARD
BEGIN:DAYLIGHT
TZOFFSETFROM:-0500
TZOFFSETTO:-0400
TZNAME:EDT
DTSTART:20220313T070000
END:DAYLIGHT
BEGIN:STANDARD
TZOFFSETFROM:-0400
TZOFFSETTO:-0500
TZNAME:EST
DTSTART:20221106T060000
END:STANDARD
BEGIN:DAYLIGHT
TZOFFSETFROM:-0500
TZOFFSETTO:-0400
TZNAME:EDT
DTSTART:20230312T070000
END:DAYLIGHT
BEGIN:STANDARD
TZOFFSETFROM:-0400
TZOFFSETTO:-0500
TZNAME:EST
DTSTART:20231105T060000
END:STANDARD
END:VTIMEZONE
BEGIN:VEVENT
DTSTART;VALUE=DATE:20220307
DTEND;VALUE=DATE:20220310
DTSTAMP:20260421T014547
CREATED:20220104T202908Z
LAST-MODIFIED:20220104T202908Z
UID:1003156103-1646611200-1646870399@www.trucknews.com
SUMMARY:ATA Moving & Storage Conference Annual Meeting
DESCRIPTION:American Trucking Associations’ Moving & Storage Conference annual event.
URL:https://www.trucknews.com/event/ata-moving-storage-conference-annual-meeting/
LOCATION:Orlando\, Florida
END:VEVENT
BEGIN:VEVENT
DTSTART;VALUE=DATE:20220307
DTEND;VALUE=DATE:20220311
DTSTAMP:20260421T014547
CREATED:20211112T175029Z
LAST-MODIFIED:20211202T195042Z
UID:1003154944-1646611200-1646956799@www.trucknews.com
SUMMARY:TMC Annual Meeting & Transportation Technology Exhibition
DESCRIPTION:The Technology & Maintenance Council event will feature fleet professionals\, vehicle manufacturers\, and component suppliers. This year’s theme is Electrifying Performance in Maintenance Management.
URL:https://www.trucknews.com/event/tmc-annual-meeting/
LOCATION:Orange County Convention Center\, Orlando\, FL\, United States
END:VEVENT
BEGIN:VEVENT
DTSTART;VALUE=DATE:20220308
DTEND;VALUE=DATE:20220309
DTSTAMP:20260421T014547
CREATED:20211112T180427Z
LAST-MODIFIED:20220224T133738Z
UID:1003154948-1646697600-1646783999@www.trucknews.com
SUMMARY:Green Truck Summit
DESCRIPTION:newThe annual event features programs led by industry experts\, OEMs and government representatives — covering clean energy trends for commercial vehicles and operational insights for vocational truck fleets. It offers perspective on work truck evolution and advanced technology development.
URL:https://www.trucknews.com/event/green-truck-summit-6/
LOCATION:Indianapolis\, Indiana
END:VEVENT
BEGIN:VEVENT
DTSTART;VALUE=DATE:20220308
DTEND;VALUE=DATE:20220312
DTSTAMP:20260421T014547
CREATED:20210914T143417Z
LAST-MODIFIED:20220224T133634Z
UID:1003153534-1646697600-1647043199@www.trucknews.com
SUMMARY:Work Truck Week
DESCRIPTION:ewsThe Work Truck Show exhibit hall\, Green Truck Summit\, and a myriad of other offerings will be featured throughout the week\, including NTEA annual meeting with keynote speaker Mike Rowe. Educational sessions and Green Truck Summit begin March 8\, and the exhibit hall is open March 9–11. Registration opens in October.
URL:https://www.trucknews.com/event/work-truck-week/
LOCATION:Indiana Convention Center\, Indianapolis\, Indiana
END:VEVENT
BEGIN:VEVENT
DTSTART;VALUE=DATE:20220319
DTEND;VALUE=DATE:20220323
DTSTAMP:20260421T014547
CREATED:20211112T182234Z
LAST-MODIFIED:20220314T123815Z
UID:1003154952-1647648000-1647993599@www.trucknews.com
SUMMARY:Truckload Carriers Association’s 2022 Annual Convention
DESCRIPTION:The convention features networking opportunities\, an exhibit hall\, keynote speakers\, and insights from panels of truckload executives and helps professionals looking to make new connections and educate themselves on the latest trends in the industry.
URL:https://www.trucknews.com/event/truckload-carriers-associations-2022-annual-convention/
LOCATION:The Wynn Las Vegas Resort\, NV\, United States
END:VEVENT
BEGIN:VEVENT
DTSTART;VALUE=DATE:20220324
DTEND;VALUE=DATE:20220325
DTSTAMP:20260421T014547
CREATED:20211112T191417Z
LAST-MODIFIED:20211112T191417Z
UID:1003154960-1648080000-1648166399@www.trucknews.com
SUMMARY:TTC Mardi Gras
DESCRIPTION:Toronto Transportation Club’s Mardi Gras celebration.
URL:https://www.trucknews.com/event/ttc-mardi-gras/
LOCATION:Palais Royale\, 1601 Lake Shore Blvd. West\, Toronto\, ON\, M6K 3C1\, Canada
END:VEVENT
BEGIN:VEVENT
DTSTART;VALUE=DATE:20220324
DTEND;VALUE=DATE:20220327
DTSTAMP:20260421T014547
CREATED:20211112T193920Z
LAST-MODIFIED:20220314T123846Z
UID:1003154969-1648080000-1648339199@www.trucknews.com
SUMMARY:Mid-America Trucking Show
DESCRIPTION:The show offers three days of exhibits\, education\, entertainment\, and networking.
URL:https://www.trucknews.com/event/mid-america-trucking-show-5/
LOCATION:Kentucky Expo Center\, 937 Phillips Ln\, Louisville\, KY\, 40209\, United States
END:VEVENT
END:VCALENDAR