BEGIN:VCALENDAR
VERSION:2.0
PRODID:-//Truck News - ECPv6.15.20//NONSGML v1.0//EN
CALSCALE:GREGORIAN
METHOD:PUBLISH
X-WR-CALNAME:Truck News
X-ORIGINAL-URL:https://www.trucknews.com
X-WR-CALDESC:Events for Truck News
REFRESH-INTERVAL;VALUE=DURATION:PT1H
X-Robots-Tag:noindex
X-PUBLISHED-TTL:PT1H
BEGIN:VTIMEZONE
TZID:America/Vancouver
BEGIN:DAYLIGHT
TZOFFSETFROM:-0800
TZOFFSETTO:-0700
TZNAME:PDT
DTSTART:20210314T100000
END:DAYLIGHT
BEGIN:STANDARD
TZOFFSETFROM:-0700
TZOFFSETTO:-0800
TZNAME:PST
DTSTART:20211107T090000
END:STANDARD
BEGIN:DAYLIGHT
TZOFFSETFROM:-0800
TZOFFSETTO:-0700
TZNAME:PDT
DTSTART:20220313T100000
END:DAYLIGHT
BEGIN:STANDARD
TZOFFSETFROM:-0700
TZOFFSETTO:-0800
TZNAME:PST
DTSTART:20221106T090000
END:STANDARD
BEGIN:DAYLIGHT
TZOFFSETFROM:-0800
TZOFFSETTO:-0700
TZNAME:PDT
DTSTART:20230312T100000
END:DAYLIGHT
BEGIN:STANDARD
TZOFFSETFROM:-0700
TZOFFSETTO:-0800
TZNAME:PST
DTSTART:20231105T090000
END:STANDARD
END:VTIMEZONE
BEGIN:VTIMEZONE
TZID:America/Toronto
BEGIN:DAYLIGHT
TZOFFSETFROM:-0500
TZOFFSETTO:-0400
TZNAME:EDT
DTSTART:20210314T070000
END:DAYLIGHT
BEGIN:STANDARD
TZOFFSETFROM:-0400
TZOFFSETTO:-0500
TZNAME:EST
DTSTART:20211107T060000
END:STANDARD
BEGIN:DAYLIGHT
TZOFFSETFROM:-0500
TZOFFSETTO:-0400
TZNAME:EDT
DTSTART:20220313T070000
END:DAYLIGHT
BEGIN:STANDARD
TZOFFSETFROM:-0400
TZOFFSETTO:-0500
TZNAME:EST
DTSTART:20221106T060000
END:STANDARD
BEGIN:DAYLIGHT
TZOFFSETFROM:-0500
TZOFFSETTO:-0400
TZNAME:EDT
DTSTART:20230312T070000
END:DAYLIGHT
BEGIN:STANDARD
TZOFFSETFROM:-0400
TZOFFSETTO:-0500
TZNAME:EST
DTSTART:20231105T060000
END:STANDARD
END:VTIMEZONE
BEGIN:VEVENT
DTSTART;VALUE=DATE:20220403
DTEND;VALUE=DATE:20220408
DTSTAMP:20260420T235018
CREATED:20211112T194742Z
LAST-MODIFIED:20211112T194742Z
UID:1003154971-1648944000-1649375999@www.trucknews.com
SUMMARY:CVSA Workshop
DESCRIPTION:The Commercial Vehicle Safety Alliance event is designed to help government officials\, enforcement and industry continue to advance commercial motor vehicle safety.
URL:https://www.trucknews.com/event/cvsa-workshop-4/
LOCATION:Hyatt Regency Bellevue\, 900 Bellevue Way NE\, Bellevue\, WA\, 98004\, United States
END:VEVENT
BEGIN:VEVENT
DTSTART;VALUE=DATE:20220405
DTEND;VALUE=DATE:20220408
DTSTAMP:20260420T235018
CREATED:20211112T195851Z
LAST-MODIFIED:20211112T195851Z
UID:1003154977-1649116800-1649375999@www.trucknews.com
SUMMARY:SAE WCX
DESCRIPTION:The event delivers emerging research\, consumer metrics\, regulatory standards and the latest innovations to advance mobility.
URL:https://www.trucknews.com/event/sae-wcx/
LOCATION:Detroit\, Michigan
END:VEVENT
BEGIN:VEVENT
DTSTART;VALUE=DATE:20220410
DTEND;VALUE=DATE:20220413
DTSTAMP:20260420T235018
CREATED:20211112T200524Z
LAST-MODIFIED:20211112T200524Z
UID:1003154981-1649548800-1649807999@www.trucknews.com
SUMMARY:NPTC Annual Educational Management Conference & Exhibition
DESCRIPTION:National Private Truck Council’s event offers information\, exhibits\, networking\, education\, best practices\, recognition and social activities.
URL:https://www.trucknews.com/event/nptc-annual-educational-management-conference-exhibition/
LOCATION:Cincinnati\, Ohio
END:VEVENT
BEGIN:VEVENT
DTSTART;TZID=America/Toronto:20220413T190000
DTEND;TZID=America/Toronto:20220413T190000
DTSTAMP:20260420T235018
CREATED:20220330T195722Z
LAST-MODIFIED:20220330T195722Z
UID:1003158279-1649876400-1649876400@www.trucknews.com
SUMMARY:DRTA's MTO Night
DESCRIPTION:Durham Region Transportation Association’s MTO Night presented by Joe Lynch will include topics like autonomous vehicles\, ELD vendor approval and enforcement and Drivewyze system for pre-clearance.
URL:https://www.trucknews.com/event/drtas-mto-night/
LOCATION:The Brock House\, 918 Brock Street\, Whitby\, Ontario\, Canada
END:VEVENT
BEGIN:VEVENT
DTSTART;VALUE=DATE:20220421
DTEND;VALUE=DATE:20220424
DTSTAMP:20260420T235018
CREATED:20211101T165429Z
LAST-MODIFIED:20211101T165659Z
UID:1003154659-1650499200-1650758399@www.trucknews.com
SUMMARY:Truck World -- Canada's national truck show
DESCRIPTION:Owned and produced by: Truck World Show Partnership\nHead Office / Show Manager’s Office: 5353 Dundas Street West\, Suite 400\nToronto\, ON\, M9B 6H8\nTelephone: (416) 510-6827 \nThursday\, September 24\, 2020       10:00 am to 6:00 pm\nFriday\, September 25\, 2020             10:00 am to 6:00 pm\nSaturday\, September 26\, 2020          9:00 am to 5:00 pm \n500+ exhibitors and 5 exhibit halls \nTruck World is a trade/industry event.  Members of the public interested in a career in trucking are welcome to attend.  Admission is $10 if they register before 6:00 pm\, April 15\, 2020 (at www.truckworld.ca) or $20 at the door cash only.
URL:https://www.trucknews.com/event/truck-world-canadas-national-truck-show/
LOCATION:International Centre\, 6900 Airport Road\, \, Toronto\, Ontario\, L4V1E8\, Canada
ORGANIZER;CN="Newcom Media Inc.":MAILTO:thierry@truckworld.ca
END:VEVENT
BEGIN:VEVENT
DTSTART;VALUE=DATE:20220423
DTEND;VALUE=DATE:20220428
DTSTAMP:20260420T235018
CREATED:20211112T201515Z
LAST-MODIFIED:20211112T201515Z
UID:1003154986-1650672000-1651103999@www.trucknews.com
SUMMARY:MHEDA's Annual Convention
DESCRIPTION:The Material Handling Equipment Distributors Association’s convention offers four days of education\, networking possibilities and area tours.
URL:https://www.trucknews.com/event/mhedas-annual-convention/
LOCATION:Loews Sapphire Falls Resort\, 6601 Adventure Way\, Orlando\, FL\, 32819\, United States
END:VEVENT
BEGIN:VEVENT
DTSTART;VALUE=DATE:20220427
DTEND;VALUE=DATE:20220430
DTSTAMP:20260420T235018
CREATED:20211220T154048Z
LAST-MODIFIED:20220427T190851Z
UID:1003155907-1651017600-1651276799@www.trucknews.com
SUMMARY:ATA's 2022 SSHR
DESCRIPTION:American Trucking Associations’ Safety\, Security & Human Resources National Conference & Exhibition is expected to attract more than 350 trucking professionals for educational sessions\, committee meetings\, interactive exhibits and opportunities to connect with colleagues.
URL:https://www.trucknews.com/event/atas-2022-sshr/
LOCATION:Hyatt Regency Orlando\, 9801 International Dr\, Orlando\, FL\, 32819\, United States
END:VEVENT
BEGIN:VEVENT
DTSTART;TZID=America/Toronto:20220428T173000
DTEND;TZID=America/Toronto:20220428T233000
DTSTAMP:20260420T235018
CREATED:20220404T122335Z
LAST-MODIFIED:20220414T143659Z
UID:1003164082-1651167000-1651188600@www.trucknews.com
SUMMARY:TTC Transportation Night Mardi Gras
DESCRIPTION:Toronto Transportation Club’s event for members to network and celebrate.
URL:https://www.trucknews.com/event/ttc-transportation-night-mardi-gras/
LOCATION:Palais Royale\, 1601 Lake Shore Blvd. West\, Toronto\, ON\, M6K 3C1\, Canada
END:VEVENT
END:VCALENDAR