BEGIN:VCALENDAR
VERSION:2.0
PRODID:-//Truck News - ECPv6.15.20//NONSGML v1.0//EN
CALSCALE:GREGORIAN
METHOD:PUBLISH
X-WR-CALNAME:Truck News
X-ORIGINAL-URL:https://www.trucknews.com
X-WR-CALDESC:Events for Truck News
REFRESH-INTERVAL;VALUE=DURATION:PT1H
X-Robots-Tag:noindex
X-PUBLISHED-TTL:PT1H
BEGIN:VTIMEZONE
TZID:America/Toronto
BEGIN:DAYLIGHT
TZOFFSETFROM:-0500
TZOFFSETTO:-0400
TZNAME:EDT
DTSTART:20210314T070000
END:DAYLIGHT
BEGIN:STANDARD
TZOFFSETFROM:-0400
TZOFFSETTO:-0500
TZNAME:EST
DTSTART:20211107T060000
END:STANDARD
BEGIN:DAYLIGHT
TZOFFSETFROM:-0500
TZOFFSETTO:-0400
TZNAME:EDT
DTSTART:20220313T070000
END:DAYLIGHT
BEGIN:STANDARD
TZOFFSETFROM:-0400
TZOFFSETTO:-0500
TZNAME:EST
DTSTART:20221106T060000
END:STANDARD
BEGIN:DAYLIGHT
TZOFFSETFROM:-0500
TZOFFSETTO:-0400
TZNAME:EDT
DTSTART:20230312T070000
END:DAYLIGHT
BEGIN:STANDARD
TZOFFSETFROM:-0400
TZOFFSETTO:-0500
TZNAME:EST
DTSTART:20231105T060000
END:STANDARD
END:VTIMEZONE
BEGIN:VTIMEZONE
TZID:America/Edmonton
BEGIN:DAYLIGHT
TZOFFSETFROM:-0700
TZOFFSETTO:-0600
TZNAME:MDT
DTSTART:20210314T090000
END:DAYLIGHT
BEGIN:STANDARD
TZOFFSETFROM:-0600
TZOFFSETTO:-0700
TZNAME:MST
DTSTART:20211107T080000
END:STANDARD
BEGIN:DAYLIGHT
TZOFFSETFROM:-0700
TZOFFSETTO:-0600
TZNAME:MDT
DTSTART:20220313T090000
END:DAYLIGHT
BEGIN:STANDARD
TZOFFSETFROM:-0600
TZOFFSETTO:-0700
TZNAME:MST
DTSTART:20221106T080000
END:STANDARD
BEGIN:DAYLIGHT
TZOFFSETFROM:-0700
TZOFFSETTO:-0600
TZNAME:MDT
DTSTART:20230312T090000
END:DAYLIGHT
BEGIN:STANDARD
TZOFFSETFROM:-0600
TZOFFSETTO:-0700
TZNAME:MST
DTSTART:20231105T080000
END:STANDARD
END:VTIMEZONE
BEGIN:VEVENT
DTSTART;VALUE=DATE:20220701
DTEND;VALUE=DATE:20220703
DTSTAMP:20260420T182729
CREATED:20220406T124933Z
LAST-MODIFIED:20220414T150147Z
UID:1003164400-1656633600-1656806399@www.trucknews.com
SUMMARY:Clifford Truck Show
DESCRIPTION:Clifford\, Ont. trucking event featuring antiques and classics.
URL:https://www.trucknews.com/event/clifford-truck-show/
LOCATION:Rotary Park\, Clifford\, ON
END:VEVENT
BEGIN:VEVENT
DTSTART;VALUE=DATE:20220709
DTEND;VALUE=DATE:20220710
DTSTAMP:20260420T182729
CREATED:20220511T211342Z
LAST-MODIFIED:20220511T211342Z
UID:1003165688-1657324800-1657411199@www.trucknews.com
SUMMARY:519 LOUD ‘N PROUD TRUCK SHOW & SHINE
DESCRIPTION:What – 519 LOUD ‘N PROUD TRUCK SHOW & SHINE \nWhen – Saturday\, July 9\, 2022 \nWhere – 247090 Side Road 5\, Mono\, ON (Orangeville Fairgrounds) \n 
URL:https://www.trucknews.com/event/519-loud-n-proud-truck-show-shine/
LOCATION:247090 Side Road 5\, Mono\, ON\, 247090 Side Road 5\, Mono\, ON\, Mono\, Ontario\, Canada
END:VEVENT
BEGIN:VEVENT
DTSTART;VALUE=DATE:20220710
DTEND;VALUE=DATE:20220714
DTSTAMP:20260420T182729
CREATED:20220104T204113Z
LAST-MODIFIED:20220711T115137Z
UID:1003156114-1657411200-1657756799@www.trucknews.com
SUMMARY:ATA Litigation Center’s Trucking Legal Forum
DESCRIPTION:American Trucking Associations’ Litigation Center’s Trucking Legal Forum.
URL:https://www.trucknews.com/event/ata-litigation-centers-trucking-legal-forum/
LOCATION:Austin\, Texas
END:VEVENT
BEGIN:VEVENT
DTSTART;TZID=America/Toronto:20220714T113000
DTEND;TZID=America/Toronto:20220714T170000
DTSTAMP:20260420T182729
CREATED:20220623T130538Z
LAST-MODIFIED:20220623T130538Z
UID:1003166823-1657798200-1657818000@www.trucknews.com
SUMMARY:CITT TAC Golf Tournament
DESCRIPTION:Logistics association Canadian Institute of Traffic and Transportation’s Toronto Area Council golf event.
URL:https://www.trucknews.com/event/citt-tac-golf-tournament/
LOCATION:Glen Eagle Golf Club\, 15731 Peel Regional Rd 50\, Bolton\, ON\, L7E 3H9\, Canada
END:VEVENT
BEGIN:VEVENT
DTSTART;VALUE=DATE:20220716
DTEND;VALUE=DATE:20220717
DTSTAMP:20260420T182729
CREATED:20211115T185852Z
LAST-MODIFIED:20220414T150359Z
UID:1003155047-1657929600-1658015999@www.trucknews.com
SUMMARY:Annual Truck Expo and Job Fair
DESCRIPTION:Event incudes a job fair\, industry specialists\, show and shine and local businesses with product displays.
URL:https://www.trucknews.com/event/annual-truck-expo-and-job-fair/
LOCATION:Lethbridge Exhibition Park\, Lethbridge\, Alta.\, Canada
END:VEVENT
BEGIN:VEVENT
DTSTART;TZID=America/Toronto:20220726T090000
DTEND;TZID=America/Toronto:20220727T150000
DTSTAMP:20260420T182729
CREATED:20220607T173612Z
LAST-MODIFIED:20220607T173612Z
UID:1003166352-1658826000-1658934000@www.trucknews.com
SUMMARY:TTSAO's 6th annual conference
DESCRIPTION:Truck Training Schools Association of Ontario event offers an opportunity to meet carrier and insurance groups\, and spend time catching up with commercial trucking industry news.
URL:https://www.trucknews.com/event/ttsaos-6th-annual-conference/
LOCATION:Lionhead Golf Club & Conference Centre\, 8525 Mississauga Road\, Brampton\, Ontario\, Canada
END:VEVENT
BEGIN:VEVENT
DTSTART;VALUE=DATE:20220728
DTEND;VALUE=DATE:20220801
DTSTAMP:20260420T182729
CREATED:20220406T125858Z
LAST-MODIFIED:20220731T121817Z
UID:1003164405-1658966400-1659311999@www.trucknews.com
SUMMARY:Rodeo du Camion
DESCRIPTION:Quebec’s annual truck event.
URL:https://www.trucknews.com/event/rodeo-du-camion-4/
LOCATION:Notre-Dame-du-Nord\, Que.
END:VEVENT
END:VCALENDAR