BEGIN:VCALENDAR
VERSION:2.0
PRODID:-//Truck News - ECPv6.15.20//NONSGML v1.0//EN
CALSCALE:GREGORIAN
METHOD:PUBLISH
X-ORIGINAL-URL:https://www.trucknews.com
X-WR-CALDESC:Events for Truck News
REFRESH-INTERVAL;VALUE=DURATION:PT1H
X-Robots-Tag:noindex
X-PUBLISHED-TTL:PT1H
BEGIN:VTIMEZONE
TZID:America/Los_Angeles
BEGIN:DAYLIGHT
TZOFFSETFROM:-0800
TZOFFSETTO:-0700
TZNAME:PDT
DTSTART:20220313T100000
END:DAYLIGHT
BEGIN:STANDARD
TZOFFSETFROM:-0700
TZOFFSETTO:-0800
TZNAME:PST
DTSTART:20221106T090000
END:STANDARD
BEGIN:DAYLIGHT
TZOFFSETFROM:-0800
TZOFFSETTO:-0700
TZNAME:PDT
DTSTART:20230312T100000
END:DAYLIGHT
BEGIN:STANDARD
TZOFFSETFROM:-0700
TZOFFSETTO:-0800
TZNAME:PST
DTSTART:20231105T090000
END:STANDARD
BEGIN:DAYLIGHT
TZOFFSETFROM:-0800
TZOFFSETTO:-0700
TZNAME:PDT
DTSTART:20240310T100000
END:DAYLIGHT
BEGIN:STANDARD
TZOFFSETFROM:-0700
TZOFFSETTO:-0800
TZNAME:PST
DTSTART:20241103T090000
END:STANDARD
END:VTIMEZONE
BEGIN:VTIMEZONE
TZID:America/Toronto
BEGIN:DAYLIGHT
TZOFFSETFROM:-0500
TZOFFSETTO:-0400
TZNAME:EDT
DTSTART:20220313T070000
END:DAYLIGHT
BEGIN:STANDARD
TZOFFSETFROM:-0400
TZOFFSETTO:-0500
TZNAME:EST
DTSTART:20221106T060000
END:STANDARD
BEGIN:DAYLIGHT
TZOFFSETFROM:-0500
TZOFFSETTO:-0400
TZNAME:EDT
DTSTART:20230312T070000
END:DAYLIGHT
BEGIN:STANDARD
TZOFFSETFROM:-0400
TZOFFSETTO:-0500
TZNAME:EST
DTSTART:20231105T060000
END:STANDARD
BEGIN:DAYLIGHT
TZOFFSETFROM:-0500
TZOFFSETTO:-0400
TZNAME:EDT
DTSTART:20240310T070000
END:DAYLIGHT
BEGIN:STANDARD
TZOFFSETFROM:-0400
TZOFFSETTO:-0500
TZNAME:EST
DTSTART:20241103T060000
END:STANDARD
END:VTIMEZONE
BEGIN:VEVENT
DTSTART;VALUE=DATE:20230105
DTEND;VALUE=DATE:20230109
DTSTAMP:20260420T081320
CREATED:20221102T125243Z
LAST-MODIFIED:20230106T135224Z
UID:1003170197-1672876800-1673222399@www.trucknews.com
SUMMARY:Consumer Electronics Show 2023
DESCRIPTION:CES 2023 offers the next generation of innovation with more than 1\,400 exhibitors showcasing the latest technology.
URL:https://www.trucknews.com/event/consumer-electronics-show-2023/
LOCATION:Las Vegas\, NV
END:VEVENT
BEGIN:VEVENT
DTSTART;VALUE=DATE:20230114
DTEND;VALUE=DATE:20230119
DTSTAMP:20260420T081320
CREATED:20221102T131625Z
LAST-MODIFIED:20230117T024110Z
UID:1003170199-1673654400-1674086399@www.trucknews.com
SUMMARY:Private Fleet Management Institute
DESCRIPTION:National Private Truck Council’s Private Fleet Management Institute is a five-day intensive educational program offering courses on Fleet Finance\, Operations\, Legal\, Regulatory and Safety Compliance\, Human Resources\, Maintenance and Equipment.
URL:https://www.trucknews.com/event/private-fleet-management-institute-2/
LOCATION:Omni Orlando Resort at ChampionsGate\, 1500 Masters Boulevard\, ChampionsGate\, Florida
END:VEVENT
BEGIN:VEVENT
DTSTART;VALUE=DATE:20230116
DTEND;VALUE=DATE:20230117
DTSTAMP:20260420T081320
CREATED:20221102T151152Z
LAST-MODIFIED:20221102T151152Z
UID:1003170218-1673827200-1673913599@www.trucknews.com
SUMMARY:Heavy Duty Aftermarket Dialogue
DESCRIPTION:Outlook conference directed toward the heavy duty aftermarket supplier industry. The program is intended to provide an in-depth view of the prospects and challenges for the global heavy duty industry’s aftermarket segment\, for the next five years and beyond.
URL:https://www.trucknews.com/event/heavy-duty-aftermarket-dialogue-2/
LOCATION:Grapevine\, Texas
END:VEVENT
BEGIN:VEVENT
DTSTART;VALUE=DATE:20230116
DTEND;VALUE=DATE:20230120
DTSTAMP:20260420T081320
CREATED:20220909T192553Z
LAST-MODIFIED:20221207T202559Z
UID:1003168858-1673827200-1674172799@www.trucknews.com
SUMMARY:Heavy Duty Aftermarket Week '23
DESCRIPTION:HDAW23 features a one-on-one business meeting program\, bringing together manufacturers and distributors from all regions of North America. The event includes an expo offering views of products\, educational workshops\, and networking opportunities.
URL:https://www.trucknews.com/event/heavy-duty-aftermarket-week-23/
LOCATION:Gaylord Texan Resort & Convention Center\, 1501 Gaylord Trail\, Grapevine\, TX\, 76051\, United States
END:VEVENT
BEGIN:VEVENT
DTSTART;VALUE=DATE:20230117
DTEND;VALUE=DATE:20230120
DTSTAMP:20260420T081320
CREATED:20221102T145354Z
LAST-MODIFIED:20221102T145354Z
UID:1003170210-1673913600-1674172799@www.trucknews.com
SUMMARY:SAE’s Government/Industry Meeting
DESCRIPTION:The annual meeting provides a forum for open dialogue\, bringing key players from the government\, policy\, and automotive worlds together to discuss the effect of regulation\, technology\, and customer acceptance on future vehicle design — and effect of R&D on current and future regulation.
URL:https://www.trucknews.com/event/saes-government-industry-meeting-3/
LOCATION:Washington\, D.C.
END:VEVENT
BEGIN:VEVENT
DTSTART;VALUE=DATE:20230117
DTEND;VALUE=DATE:20230120
DTSTAMP:20260420T081320
CREATED:20221102T150314Z
LAST-MODIFIED:20221102T150314Z
UID:1003170215-1673913600-1674172799@www.trucknews.com
SUMMARY:World Of Concrete
DESCRIPTION:Event offers knowledge\, equipment and connections to keep grinding it out through disruptions to the supply chain\, safety and beyond.
URL:https://www.trucknews.com/event/world-of-concrete-6/
LOCATION:Las Vegas Convention Center\, 3150 Paradise Rd\, Las Vegas\, NV\, 89109\, United States
END:VEVENT
BEGIN:VEVENT
DTSTART;TZID=America/Toronto:20230119T073000
DTEND;TZID=America/Toronto:20230119T113000
DTSTAMP:20260420T081320
CREATED:20221221T194829Z
LAST-MODIFIED:20230117T140539Z
UID:1003171474-1674113400-1674127800@www.trucknews.com
SUMMARY:PMTC Ontario Regional Seminar
DESCRIPTION:Private Motor Truck Council of Canada event.
URL:https://www.trucknews.com/event/pmtc-ontario-regional-seminar-3/
LOCATION:Home2 Suites by Hilton\, 8490 Parkhill Dr\, Milton\, Ontario
END:VEVENT
BEGIN:VEVENT
DTSTART;VALUE=DATE:20230123
DTEND;VALUE=DATE:20230127
DTSTAMP:20260420T081320
CREATED:20221102T133211Z
LAST-MODIFIED:20230117T135317Z
UID:1003170203-1674432000-1674777599@www.trucknews.com
SUMMARY:Clean Fuels Conference 2023
DESCRIPTION:Clean Fuels Alliance America represents biodiesel\, renewable diesel and sustainable aviation fuel\, advancing the interests of its members by supporting sustainable biodiesel\, renewable diesel and sustainable aviation fuel industry growth.
URL:https://www.trucknews.com/event/clean-fuels-conference-2023/
LOCATION:Tampa Convention Center\, Tampa\, Florida
END:VEVENT
BEGIN:VEVENT
DTSTART;VALUE=DATE:20230123
DTEND;VALUE=DATE:20230128
DTSTAMP:20260420T081320
CREATED:20221102T153247Z
LAST-MODIFIED:20230117T140506Z
UID:1003170221-1674432000-1674863999@www.trucknews.com
SUMMARY:CVSA’s COHMED Conference
DESCRIPTION:Presented by the Cooperative Hazardous Materials Enforcement Development (COHMED) program\, the Commercial Vehicle Safety Alliance’s event is for individuals and organizations involved in the regulation\, enforcement and safety of transporting hazardous materials and dangerous goods. It provides an opportunity for the hazmat community to present concerns and perspectives about enforcement of regulations.
URL:https://www.trucknews.com/event/cvsas-cohmed-conference-2/
LOCATION:San Antonio\, Texas
END:VEVENT
END:VCALENDAR