BEGIN:VCALENDAR
VERSION:2.0
PRODID:-//Truck News - ECPv6.15.20//NONSGML v1.0//EN
CALSCALE:GREGORIAN
METHOD:PUBLISH
X-ORIGINAL-URL:https://www.trucknews.com
X-WR-CALDESC:Events for Truck News
REFRESH-INTERVAL;VALUE=DURATION:PT1H
X-Robots-Tag:noindex
X-PUBLISHED-TTL:PT1H
BEGIN:VTIMEZONE
TZID:America/Toronto
BEGIN:DAYLIGHT
TZOFFSETFROM:-0500
TZOFFSETTO:-0400
TZNAME:EDT
DTSTART:20220313T070000
END:DAYLIGHT
BEGIN:STANDARD
TZOFFSETFROM:-0400
TZOFFSETTO:-0500
TZNAME:EST
DTSTART:20221106T060000
END:STANDARD
BEGIN:DAYLIGHT
TZOFFSETFROM:-0500
TZOFFSETTO:-0400
TZNAME:EDT
DTSTART:20230312T070000
END:DAYLIGHT
BEGIN:STANDARD
TZOFFSETFROM:-0400
TZOFFSETTO:-0500
TZNAME:EST
DTSTART:20231105T060000
END:STANDARD
BEGIN:DAYLIGHT
TZOFFSETFROM:-0500
TZOFFSETTO:-0400
TZNAME:EDT
DTSTART:20240310T070000
END:DAYLIGHT
BEGIN:STANDARD
TZOFFSETFROM:-0400
TZOFFSETTO:-0500
TZNAME:EST
DTSTART:20241103T060000
END:STANDARD
END:VTIMEZONE
BEGIN:VEVENT
DTSTART;VALUE=DATE:20230205
DTEND;VALUE=DATE:20230208
DTSTAMP:20260420T064419
CREATED:20221102T172135Z
LAST-MODIFIED:20230206T151056Z
UID:1003170226-1675555200-1675814399@www.trucknews.com
SUMMARY:ATA executive committee meeting
DESCRIPTION:American Trucking Associations’ executive committee meeting
URL:https://www.trucknews.com/event/ata-executive-committee-meeting-2/
LOCATION:Washington\, D.C.
END:VEVENT
BEGIN:VEVENT
DTSTART;VALUE=DATE:20230219
DTEND;VALUE=DATE:20230223
DTSTAMP:20260420T064419
CREATED:20221102T173248Z
LAST-MODIFIED:20230202T145531Z
UID:1003170229-1676764800-1677110399@www.trucknews.com
SUMMARY:RILA LINK 2023: The Retail Supply Chain Conference
DESCRIPTION:An event where the retail ecosystem comes together to tackle the industry’s biggest challenges.
URL:https://www.trucknews.com/event/rila-link-2023-the-retail-supply-chain-conference/
LOCATION:Orlando\, Florida
END:VEVENT
BEGIN:VEVENT
DTSTART;VALUE=DATE:20230221
DTEND;VALUE=DATE:20230223
DTSTAMP:20260420T064419
CREATED:20221104T141214Z
LAST-MODIFIED:20230221T140445Z
UID:1003170346-1676937600-1677110399@www.trucknews.com
SUMMARY:TTSAO 7th Annual Conference
DESCRIPTION:Truck Training Schools Association of Ontario’s yearly event.
URL:https://www.trucknews.com/event/ttsao-7th-annual-conference/
LOCATION:Ontario
END:VEVENT
BEGIN:VEVENT
DTSTART;VALUE=DATE:20230221
DTEND;VALUE=DATE:20230224
DTSTAMP:20260420T064419
CREATED:20221107T152410Z
LAST-MODIFIED:20230221T140514Z
UID:1003170457-1676937600-1677196799@www.trucknews.com
SUMMARY:ACT Research's 68th Outlook Seminar
DESCRIPTION:Semi-annual event titled Driving Decarbonization: The Future of Commercial Vehicles brings together ACT’s staff of analysts and economists with industry leaders to support planning and budgeting strategies for the road ahead.
URL:https://www.trucknews.com/event/act-researchs-68th-outlook-seminar/
LOCATION:The Commons\, Columbus\, Indiana
END:VEVENT
BEGIN:VEVENT
DTSTART;VALUE=DATE:20230227
DTEND;VALUE=DATE:20230302
DTSTAMP:20260420T064419
CREATED:20221102T180147Z
LAST-MODIFIED:20230117T141116Z
UID:1003170235-1677456000-1677715199@www.trucknews.com
SUMMARY:ATA Moving & Storage Conference Annual Meeting
DESCRIPTION:American Trucking Associations’ Moving & Storage Conference annual event.
URL:https://www.trucknews.com/event/ata-moving-storage-conference-annual-meeting-2/
LOCATION:Orange County Convention Center\, Orlando\, FL\, United States
END:VEVENT
BEGIN:VEVENT
DTSTART;VALUE=DATE:20230227
DTEND;VALUE=DATE:20230303
DTSTAMP:20260420T064419
CREATED:20221102T175209Z
LAST-MODIFIED:20230301T152250Z
UID:1003170232-1677456000-1677801599@www.trucknews.com
SUMMARY:TMC Annual Meeting & Transportation Technology Exhibition
DESCRIPTION:The Technology & Maintenance Council event will feature fleet professionals\, vehicle manufacturers\, and component suppliers.  It’s a one-stop shop  for fleet education
URL:https://www.trucknews.com/event/tmc-annual-meeting-transportation-technology-exhibition-7/
LOCATION:Orange County Convention Center\, Orlando\, FL\, United States
END:VEVENT
BEGIN:VEVENT
DTSTART;TZID=America/Toronto:20230227T180000
DTEND;TZID=America/Toronto:20230227T180000
DTSTAMP:20260420T064419
CREATED:20230202T145245Z
LAST-MODIFIED:20230202T145245Z
UID:1003172389-1677520800-1677520800@www.trucknews.com
SUMMARY:Bowling Night
DESCRIPTION:Delta Nu Alpha Transportation Network’s event for co-workers\, family and friends.
URL:https://www.trucknews.com/event/bowling-night/
LOCATION:Planet Bowl\, 5555 Eglinton Ave W\, Etobicoke\, Ontario
END:VEVENT
END:VCALENDAR