BEGIN:VCALENDAR
VERSION:2.0
PRODID:-//Truck News - ECPv6.15.20//NONSGML v1.0//EN
CALSCALE:GREGORIAN
METHOD:PUBLISH
X-WR-CALNAME:Truck News
X-ORIGINAL-URL:https://www.trucknews.com
X-WR-CALDESC:Events for Truck News
REFRESH-INTERVAL;VALUE=DURATION:PT1H
X-Robots-Tag:noindex
X-PUBLISHED-TTL:PT1H
BEGIN:VTIMEZONE
TZID:America/Toronto
BEGIN:DAYLIGHT
TZOFFSETFROM:-0500
TZOFFSETTO:-0400
TZNAME:EDT
DTSTART:20220313T070000
END:DAYLIGHT
BEGIN:STANDARD
TZOFFSETFROM:-0400
TZOFFSETTO:-0500
TZNAME:EST
DTSTART:20221106T060000
END:STANDARD
BEGIN:DAYLIGHT
TZOFFSETFROM:-0500
TZOFFSETTO:-0400
TZNAME:EDT
DTSTART:20230312T070000
END:DAYLIGHT
BEGIN:STANDARD
TZOFFSETFROM:-0400
TZOFFSETTO:-0500
TZNAME:EST
DTSTART:20231105T060000
END:STANDARD
BEGIN:DAYLIGHT
TZOFFSETFROM:-0500
TZOFFSETTO:-0400
TZNAME:EDT
DTSTART:20240310T070000
END:DAYLIGHT
BEGIN:STANDARD
TZOFFSETFROM:-0400
TZOFFSETTO:-0500
TZNAME:EST
DTSTART:20241103T060000
END:STANDARD
END:VTIMEZONE
BEGIN:VTIMEZONE
TZID:America/Vancouver
BEGIN:DAYLIGHT
TZOFFSETFROM:-0800
TZOFFSETTO:-0700
TZNAME:PDT
DTSTART:20220313T100000
END:DAYLIGHT
BEGIN:STANDARD
TZOFFSETFROM:-0700
TZOFFSETTO:-0800
TZNAME:PST
DTSTART:20221106T090000
END:STANDARD
BEGIN:DAYLIGHT
TZOFFSETFROM:-0800
TZOFFSETTO:-0700
TZNAME:PDT
DTSTART:20230312T100000
END:DAYLIGHT
BEGIN:STANDARD
TZOFFSETFROM:-0700
TZOFFSETTO:-0800
TZNAME:PST
DTSTART:20231105T090000
END:STANDARD
BEGIN:DAYLIGHT
TZOFFSETFROM:-0800
TZOFFSETTO:-0700
TZNAME:PDT
DTSTART:20240310T100000
END:DAYLIGHT
BEGIN:STANDARD
TZOFFSETFROM:-0700
TZOFFSETTO:-0800
TZNAME:PST
DTSTART:20241103T090000
END:STANDARD
END:VTIMEZONE
BEGIN:VTIMEZONE
TZID:America/Halifax
BEGIN:DAYLIGHT
TZOFFSETFROM:-0400
TZOFFSETTO:-0300
TZNAME:ADT
DTSTART:20220313T060000
END:DAYLIGHT
BEGIN:STANDARD
TZOFFSETFROM:-0300
TZOFFSETTO:-0400
TZNAME:AST
DTSTART:20221106T050000
END:STANDARD
BEGIN:DAYLIGHT
TZOFFSETFROM:-0400
TZOFFSETTO:-0300
TZNAME:ADT
DTSTART:20230312T060000
END:DAYLIGHT
BEGIN:STANDARD
TZOFFSETFROM:-0300
TZOFFSETTO:-0400
TZNAME:AST
DTSTART:20231105T050000
END:STANDARD
BEGIN:DAYLIGHT
TZOFFSETFROM:-0400
TZOFFSETTO:-0300
TZNAME:ADT
DTSTART:20240310T060000
END:DAYLIGHT
BEGIN:STANDARD
TZOFFSETFROM:-0300
TZOFFSETTO:-0400
TZNAME:AST
DTSTART:20241103T050000
END:STANDARD
END:VTIMEZONE
BEGIN:VEVENT
DTSTART;VALUE=DATE:20230227
DTEND;VALUE=DATE:20230302
DTSTAMP:20260420T050409
CREATED:20221102T180147Z
LAST-MODIFIED:20230117T141116Z
UID:1003170235-1677456000-1677715199@www.trucknews.com
SUMMARY:ATA Moving & Storage Conference Annual Meeting
DESCRIPTION:American Trucking Associations’ Moving & Storage Conference annual event.
URL:https://www.trucknews.com/event/ata-moving-storage-conference-annual-meeting-2/
LOCATION:Orange County Convention Center\, Orlando\, FL\, United States
END:VEVENT
BEGIN:VEVENT
DTSTART;VALUE=DATE:20230227
DTEND;VALUE=DATE:20230303
DTSTAMP:20260420T050409
CREATED:20221102T175209Z
LAST-MODIFIED:20230301T152250Z
UID:1003170232-1677456000-1677801599@www.trucknews.com
SUMMARY:TMC Annual Meeting & Transportation Technology Exhibition
DESCRIPTION:The Technology & Maintenance Council event will feature fleet professionals\, vehicle manufacturers\, and component suppliers.  It’s a one-stop shop  for fleet education
URL:https://www.trucknews.com/event/tmc-annual-meeting-transportation-technology-exhibition-7/
LOCATION:Orange County Convention Center\, Orlando\, FL\, United States
END:VEVENT
BEGIN:VEVENT
DTSTART;TZID=America/Toronto:20230302T110000
DTEND;TZID=America/Toronto:20230302T143000
DTSTAMP:20260420T050409
CREATED:20230207T192901Z
LAST-MODIFIED:20230221T140610Z
UID:1003172524-1677754800-1677767400@www.trucknews.com
SUMMARY:2023 Connect Luncheon
DESCRIPTION:Toronto Transportation Club event offering a candid conversation about the new world of transportation.
URL:https://www.trucknews.com/event/2023-connect-luncheon/
LOCATION:Hotel X\, 11 Princes' Blvd\, Toronto\, Ontario
END:VEVENT
BEGIN:VEVENT
DTSTART;VALUE=DATE:20230304
DTEND;VALUE=DATE:20230308
DTSTAMP:20260420T050409
CREATED:20221102T183958Z
LAST-MODIFIED:20230228T151602Z
UID:1003170244-1677888000-1678233599@www.trucknews.com
SUMMARY:TCA’s 2023 Annual Convention
DESCRIPTION:The is focused on educational content made by truckload professionals for truckload professionals\, networking\, and collaboration. Attendees can make new connections and educate themselves on the latest trends in the industry.
URL:https://www.trucknews.com/event/tcas-2023-annual-convention/
LOCATION:Gaylord Palms Resort & Convention Center\, 6000 W Osceola Pkwy\, Kissimmee\, FL\, 34746\, United States
END:VEVENT
BEGIN:VEVENT
DTSTART;TZID=America/Vancouver:20230306T100000
DTEND;TZID=America/Vancouver:20230306T140000
DTSTAMP:20260420T050409
CREATED:20230131T130027Z
LAST-MODIFIED:20230131T130027Z
UID:1003172243-1678096800-1678111200@www.trucknews.com
SUMMARY:CleanBC HDVE Program Expo
DESCRIPTION:B.C. Trucking Association event will showcase fuel-saving equipment for heavy-duty commercial trucks available through the CleanBC HDVE Program.
URL:https://www.trucknews.com/event/cleanbc-hdve-program-expo/
LOCATION:Coast Hotel & Convention Centre\, 20393 Fraser Hwy\, Langley\, British Columbia
END:VEVENT
BEGIN:VEVENT
DTSTART;VALUE=DATE:20230307
DTEND;VALUE=DATE:20230308
DTSTAMP:20260420T050409
CREATED:20221102T183137Z
LAST-MODIFIED:20230117T141257Z
UID:1003170239-1678147200-1678233599@www.trucknews.com
SUMMARY:Green Truck Summit
DESCRIPTION:Annual event provides insights\, solutions and resources in support of the work truck industry’s drive toward achieving greater sustainability\, productivity and efficiency. It offers intensive programs from industry experts\, government representatives\, fleets\, and vehicle and equipment manufacturers.
URL:https://www.trucknews.com/event/green-truck-summit-7/
LOCATION:JW Marriott Indianapolis\, Indianapolis\, Indiana
END:VEVENT
BEGIN:VEVENT
DTSTART;VALUE=DATE:20230307
DTEND;VALUE=DATE:20230311
DTSTAMP:20260420T050409
CREATED:20220831T181458Z
LAST-MODIFIED:20230228T151722Z
UID:1003168602-1678147200-1678492799@www.trucknews.com
SUMMARY:Work Truck Week
DESCRIPTION:The NTEA event includes The Work Truck Show\, Green Truck Summit\, NTEA annual meeting\, a ride-and-drive\, educational conference\, and networking activities.
URL:https://www.trucknews.com/event/work-truck-week-2/
LOCATION:Indiana Convention Center
END:VEVENT
BEGIN:VEVENT
DTSTART;VALUE=DATE:20230308
DTEND;VALUE=DATE:20230309
DTSTAMP:20260420T050409
CREATED:20230126T131657Z
LAST-MODIFIED:20230302T140204Z
UID:1003172180-1678233600-1678319999@www.trucknews.com
SUMMARY:2023 Women with Drive Leadership Summit
DESCRIPTION:Trucking HR Canada’s annual event titled “Driving a Sustainable Supply Chain” offering insight into the recruitment and retention of a diverse workforce.
URL:https://www.trucknews.com/event/2023-women-with-drive-leadership-summit/
LOCATION:The Westin Toronto Airport\, 950 Dixon Road\, Toronto\, Ontario
END:VEVENT
BEGIN:VEVENT
DTSTART;TZID=America/Halifax:20230323T180000
DTEND;TZID=America/Halifax:20230323T180000
DTSTAMP:20260420T050409
CREATED:20221221T131532Z
LAST-MODIFIED:20230308T151229Z
UID:1003171456-1679594400-1679594400@www.trucknews.com
SUMMARY:2023 Women in Transportation Gala
DESCRIPTION:Transportation Club of Moncton event featuring entertainment and awards.
URL:https://www.trucknews.com/event/2023-women-in-transportation-gala/
LOCATION:Crowne Plaza Moncton Downtown\, 1005 Main St\, Moncton\, New Brunswick
END:VEVENT
BEGIN:VEVENT
DTSTART;VALUE=DATE:20230330
DTEND;VALUE=DATE:20230402
DTSTAMP:20260420T050409
CREATED:20221102T184942Z
LAST-MODIFIED:20230308T151407Z
UID:1003170247-1680134400-1680393599@www.trucknews.com
SUMMARY:Mid-America Trucking Show
DESCRIPTION:The show offers three days of exhibits\, education\, entertainment\, and networking.
URL:https://www.trucknews.com/event/mid-america-trucking-show-6/
LOCATION:Kentucky Expo Center\, 937 Phillips Ln\, Louisville\, KY\, 40209\, United States
END:VEVENT
BEGIN:VEVENT
DTSTART;TZID=America/Toronto:20230330T180000
DTEND;TZID=America/Toronto:20230330T180000
DTSTAMP:20260420T050409
CREATED:20230303T131433Z
LAST-MODIFIED:20230303T160613Z
UID:1003173206-1680199200-1680199200@www.trucknews.com
SUMMARY:Taking The Wheel
DESCRIPTION:Delta Nu Alpha dinner and panel discussion on navigating mentorship in transportation.
URL:https://www.trucknews.com/event/taking-the-wheel/
LOCATION:Royal Canadian Legion Branch 609\, 1133 Queen St E\, Brampton\, Ontario
END:VEVENT
END:VCALENDAR