BEGIN:VCALENDAR
VERSION:2.0
PRODID:-//Truck News - ECPv6.15.20//NONSGML v1.0//EN
CALSCALE:GREGORIAN
METHOD:PUBLISH
X-WR-CALNAME:Truck News
X-ORIGINAL-URL:https://www.trucknews.com
X-WR-CALDESC:Events for Truck News
REFRESH-INTERVAL;VALUE=DURATION:PT1H
X-Robots-Tag:noindex
X-PUBLISHED-TTL:PT1H
BEGIN:VTIMEZONE
TZID:America/Toronto
BEGIN:DAYLIGHT
TZOFFSETFROM:-0500
TZOFFSETTO:-0400
TZNAME:EDT
DTSTART:20220313T070000
END:DAYLIGHT
BEGIN:STANDARD
TZOFFSETFROM:-0400
TZOFFSETTO:-0500
TZNAME:EST
DTSTART:20221106T060000
END:STANDARD
BEGIN:DAYLIGHT
TZOFFSETFROM:-0500
TZOFFSETTO:-0400
TZNAME:EDT
DTSTART:20230312T070000
END:DAYLIGHT
BEGIN:STANDARD
TZOFFSETFROM:-0400
TZOFFSETTO:-0500
TZNAME:EST
DTSTART:20231105T060000
END:STANDARD
BEGIN:DAYLIGHT
TZOFFSETFROM:-0500
TZOFFSETTO:-0400
TZNAME:EDT
DTSTART:20240310T070000
END:DAYLIGHT
BEGIN:STANDARD
TZOFFSETFROM:-0400
TZOFFSETTO:-0500
TZNAME:EST
DTSTART:20241103T060000
END:STANDARD
END:VTIMEZONE
BEGIN:VTIMEZONE
TZID:America/Winnipeg
BEGIN:DAYLIGHT
TZOFFSETFROM:-0600
TZOFFSETTO:-0500
TZNAME:CDT
DTSTART:20220313T080000
END:DAYLIGHT
BEGIN:STANDARD
TZOFFSETFROM:-0500
TZOFFSETTO:-0600
TZNAME:CST
DTSTART:20221106T070000
END:STANDARD
BEGIN:DAYLIGHT
TZOFFSETFROM:-0600
TZOFFSETTO:-0500
TZNAME:CDT
DTSTART:20230312T080000
END:DAYLIGHT
BEGIN:STANDARD
TZOFFSETFROM:-0500
TZOFFSETTO:-0600
TZNAME:CST
DTSTART:20231105T070000
END:STANDARD
BEGIN:DAYLIGHT
TZOFFSETFROM:-0600
TZOFFSETTO:-0500
TZNAME:CDT
DTSTART:20240310T080000
END:DAYLIGHT
BEGIN:STANDARD
TZOFFSETFROM:-0500
TZOFFSETTO:-0600
TZNAME:CST
DTSTART:20241103T070000
END:STANDARD
END:VTIMEZONE
BEGIN:VTIMEZONE
TZID:America/Edmonton
BEGIN:DAYLIGHT
TZOFFSETFROM:-0700
TZOFFSETTO:-0600
TZNAME:MDT
DTSTART:20220313T090000
END:DAYLIGHT
BEGIN:STANDARD
TZOFFSETFROM:-0600
TZOFFSETTO:-0700
TZNAME:MST
DTSTART:20221106T080000
END:STANDARD
BEGIN:DAYLIGHT
TZOFFSETFROM:-0700
TZOFFSETTO:-0600
TZNAME:MDT
DTSTART:20230312T090000
END:DAYLIGHT
BEGIN:STANDARD
TZOFFSETFROM:-0600
TZOFFSETTO:-0700
TZNAME:MST
DTSTART:20231105T080000
END:STANDARD
BEGIN:DAYLIGHT
TZOFFSETFROM:-0700
TZOFFSETTO:-0600
TZNAME:MDT
DTSTART:20240310T090000
END:DAYLIGHT
BEGIN:STANDARD
TZOFFSETFROM:-0600
TZOFFSETTO:-0700
TZNAME:MST
DTSTART:20241103T080000
END:STANDARD
END:VTIMEZONE
BEGIN:VEVENT
DTSTART;VALUE=DATE:20230330
DTEND;VALUE=DATE:20230402
DTSTAMP:20260420T031015
CREATED:20221102T184942Z
LAST-MODIFIED:20230308T151407Z
UID:1003170247-1680134400-1680393599@www.trucknews.com
SUMMARY:Mid-America Trucking Show
DESCRIPTION:The show offers three days of exhibits\, education\, entertainment\, and networking.
URL:https://www.trucknews.com/event/mid-america-trucking-show-6/
LOCATION:Kentucky Expo Center\, 937 Phillips Ln\, Louisville\, KY\, 40209\, United States
END:VEVENT
BEGIN:VEVENT
DTSTART;TZID=America/Toronto:20230404T120000
DTEND;TZID=America/Toronto:20230407T115959
DTSTAMP:20260420T031015
CREATED:20221102T195307Z
LAST-MODIFIED:20230405T124242Z
UID:1003170272-1680609600-1680868799@www.trucknews.com
SUMMARY:ATA’s 2023 SSHR
DESCRIPTION:American Trucking Associations’ Safety\, Security & Human Resources National Conference & Exhibition features three educational tracks focused on the latest in safety\, security and human resources. In provides opportunities to connect with colleagues and an exhibit hall featuring the industry’s top manufacturers and suppliers showcasing their latest solutions.
URL:https://www.trucknews.com/event/atas-2023-sshr/
LOCATION:Hilton Minneapolis\, Minneapolis\, Minnesota
END:VEVENT
BEGIN:VEVENT
DTSTART;TZID=America/Toronto:20230413T173000
DTEND;TZID=America/Toronto:20230413T173000
DTSTAMP:20260420T031015
CREATED:20230207T193511Z
LAST-MODIFIED:20230323T133944Z
UID:1003172528-1681407000-1681407000@www.trucknews.com
SUMMARY:TTC's Margaritaville
DESCRIPTION:Toronto Transportation Club’s evening of celebration – New Orleans style.
URL:https://www.trucknews.com/event/ttc-transportation-night/
LOCATION:Palais Royale\, 1601 Lake Shore Blvd. West\, Toronto\, ON\, M6K 3C1\, Canada
END:VEVENT
BEGIN:VEVENT
DTSTART;TZID=America/Winnipeg:20230414T083000
DTEND;TZID=America/Winnipeg:20230414T110000
DTSTAMP:20260420T031015
CREATED:20230302T142809Z
LAST-MODIFIED:20230403T124426Z
UID:1003173186-1681461000-1681470000@www.trucknews.com
SUMMARY:MTA Annual General Meeting
DESCRIPTION:Manitoba Trucking Association’s annual event.
URL:https://www.trucknews.com/event/mta-annual-general-meeting/
LOCATION:Hotel Fort Garry\, 222 Broadway\, Winnipeg\, Manitoba
END:VEVENT
BEGIN:VEVENT
DTSTART;TZID=America/Winnipeg:20230414T180000
DTEND;TZID=America/Winnipeg:20230414T180000
DTSTAMP:20260420T031015
CREATED:20230302T143946Z
LAST-MODIFIED:20230302T143946Z
UID:1003173191-1681495200-1681495200@www.trucknews.com
SUMMARY:MTA Spring Gala
DESCRIPTION:Manitoba Trucking Association’s event at a casino and includes comedic entertainment from Matt Falk.
URL:https://www.trucknews.com/event/mta-spring-gala/
LOCATION:Fort Garry Hotel\, 222 Broadway\, Winnipeg\, Manitoba
END:VEVENT
BEGIN:VEVENT
DTSTART;VALUE=DATE:20230418
DTEND;VALUE=DATE:20230420
DTSTAMP:20260420T031015
CREATED:20230227T172208Z
LAST-MODIFIED:20230227T172208Z
UID:1003173033-1681776000-1681948799@www.trucknews.com
SUMMARY:HD Repair Forum
DESCRIPTION:Two-day event covers topics such as addressing the technician shortage\, improving profitability\, and handling new vehicle technology during repair.
URL:https://www.trucknews.com/event/hd-repair-forum/
LOCATION:Fort Worth\, Texas
END:VEVENT
BEGIN:VEVENT
DTSTART;VALUE=DATE:20230418
DTEND;VALUE=DATE:20230421
DTSTAMP:20260420T031015
CREATED:20221102T190703Z
LAST-MODIFIED:20230117T141505Z
UID:1003170257-1681776000-1682035199@www.trucknews.com
SUMMARY:SAE WCX
DESCRIPTION:The event delivers emerging research\, consumer metrics\, regulatory standards and the latest innovations to advance mobility.
URL:https://www.trucknews.com/event/sae-wcx-2/
LOCATION:Detroit\, Michigan
END:VEVENT
BEGIN:VEVENT
DTSTART;TZID=America/Edmonton:20230418T120000
DTEND;TZID=America/Edmonton:20230421T115959
DTSTAMP:20260420T031015
CREATED:20230201T132749Z
LAST-MODIFIED:20230418T185933Z
UID:1003172333-1681819200-1682078399@www.trucknews.com
SUMMARY:AMTA Leadership Conference and AGM
DESCRIPTION:Alberta Motor Transport Association’s annual event.
URL:https://www.trucknews.com/event/amta-leadership-conference-and-agm/
LOCATION:Delta Edmonton South Conference Centre\, 4404 Gateway Blvd NW\, Edmonton\, Alberta
END:VEVENT
BEGIN:VEVENT
DTSTART;VALUE=DATE:20230423
DTEND;VALUE=DATE:20230428
DTSTAMP:20260420T031015
CREATED:20221102T185849Z
LAST-MODIFIED:20230117T141536Z
UID:1003170252-1682208000-1682639999@www.trucknews.com
SUMMARY:CVSA Workshop
DESCRIPTION:The event is designed to help government officials\, enforcement and industry continue to advance commercial motor vehicle safety.
URL:https://www.trucknews.com/event/cvsa-workshop-5/
LOCATION:Renasant Convention Center\, Memphis\, Tennessee
END:VEVENT
BEGIN:VEVENT
DTSTART;VALUE=DATE:20230429
DTEND;VALUE=DATE:20230504
DTSTAMP:20260420T031015
CREATED:20221102T193941Z
LAST-MODIFIED:20230117T141611Z
UID:1003170266-1682726400-1683158399@www.trucknews.com
SUMMARY:MHEDA’s Annual Convention
DESCRIPTION:The Material Handling Equipment Distributors Association’s convention offers four days of education\, networking possibilities and area tours.
URL:https://www.trucknews.com/event/mhedas-annual-convention-2/
LOCATION:Grand Hyatt Nashville\, 1000 Broadway\, Nashville\, Tennessee
END:VEVENT
END:VCALENDAR