BEGIN:VCALENDAR
VERSION:2.0
PRODID:-//Truck News - ECPv6.15.20//NONSGML v1.0//EN
CALSCALE:GREGORIAN
METHOD:PUBLISH
X-ORIGINAL-URL:https://www.trucknews.com
X-WR-CALDESC:Events for Truck News
REFRESH-INTERVAL;VALUE=DURATION:PT1H
X-Robots-Tag:noindex
X-PUBLISHED-TTL:PT1H
BEGIN:VTIMEZONE
TZID:America/Toronto
BEGIN:DAYLIGHT
TZOFFSETFROM:-0500
TZOFFSETTO:-0400
TZNAME:EDT
DTSTART:20220313T070000
END:DAYLIGHT
BEGIN:STANDARD
TZOFFSETFROM:-0400
TZOFFSETTO:-0500
TZNAME:EST
DTSTART:20221106T060000
END:STANDARD
BEGIN:DAYLIGHT
TZOFFSETFROM:-0500
TZOFFSETTO:-0400
TZNAME:EDT
DTSTART:20230312T070000
END:DAYLIGHT
BEGIN:STANDARD
TZOFFSETFROM:-0400
TZOFFSETTO:-0500
TZNAME:EST
DTSTART:20231105T060000
END:STANDARD
BEGIN:DAYLIGHT
TZOFFSETFROM:-0500
TZOFFSETTO:-0400
TZNAME:EDT
DTSTART:20240310T070000
END:DAYLIGHT
BEGIN:STANDARD
TZOFFSETFROM:-0400
TZOFFSETTO:-0500
TZNAME:EST
DTSTART:20241103T060000
END:STANDARD
END:VTIMEZONE
BEGIN:VEVENT
DTSTART;VALUE=DATE:20230429
DTEND;VALUE=DATE:20230504
DTSTAMP:20260420T012101
CREATED:20221102T193941Z
LAST-MODIFIED:20230117T141611Z
UID:1003170266-1682726400-1683158399@www.trucknews.com
SUMMARY:MHEDA’s Annual Convention
DESCRIPTION:The Material Handling Equipment Distributors Association’s convention offers four days of education\, networking possibilities and area tours.
URL:https://www.trucknews.com/event/mhedas-annual-convention-2/
LOCATION:Grand Hyatt Nashville\, 1000 Broadway\, Nashville\, Tennessee
END:VEVENT
BEGIN:VEVENT
DTSTART;TZID=America/Toronto:20230501T120000
DTEND;TZID=America/Toronto:20230505T115959
DTSTAMP:20260420T012101
CREATED:20221104T133106Z
LAST-MODIFIED:20230502T120621Z
UID:1003170333-1682942400-1683287999@www.trucknews.com
SUMMARY:Advanced Clean Transportation Expo
DESCRIPTION:Discover the trends\, infrastructure solutions\, and technologies transforming clean commercial transportation.
URL:https://www.trucknews.com/event/advanced-clean-transportation-expo-7/
LOCATION:Anaheim Convention Center\, Anaheim\, California
END:VEVENT
BEGIN:VEVENT
DTSTART;TZID=America/Toronto:20230504T170000
DTEND;TZID=America/Toronto:20230504T210000
DTSTAMP:20260420T012101
CREATED:20230322T124852Z
LAST-MODIFIED:20230504T130559Z
UID:1003173711-1683219600-1683234000@www.trucknews.com
SUMMARY:Hamilton Transportation Club's Spring Address
DESCRIPTION:An evening of networking and to discuss progress developments in southern Ontario and Hamilton.
URL:https://www.trucknews.com/event/hamilton-transportation-clubs-spring-address/
LOCATION:Waterfront Banquet Centre\, 555 Bay St North\, Hamilton\, Ontario
END:VEVENT
BEGIN:VEVENT
DTSTART;VALUE=DATE:20230505
DTEND;VALUE=DATE:20230509
DTSTAMP:20260420T012101
CREATED:20221104T134508Z
LAST-MODIFIED:20230117T141718Z
UID:1003170338-1683244800-1683590399@www.trucknews.com
SUMMARY:ATA MYMS
DESCRIPTION:American Trucking Associations’ Mid-Year Management Session attracts trucking’s top executives and is an important way for ATA members to discuss the association’s strategic priorities\, catch up with colleagues\, hear advocacy updates\, and influence the direction of the trucking industry.
URL:https://www.trucknews.com/event/ata-myms-2/
LOCATION:The Diplomat Beach Resort\, Hollywood\, Florida
END:VEVENT
BEGIN:VEVENT
DTSTART;VALUE=DATE:20230507
DTEND;VALUE=DATE:20230510
DTSTAMP:20260420T012101
CREATED:20221102T192148Z
LAST-MODIFIED:20230117T141756Z
UID:1003170260-1683417600-1683676799@www.trucknews.com
SUMMARY:NPTC Annual Educational Management Conference & Exhibition
DESCRIPTION:National Private Truck Council’s event offers information\, exhibits\, networking\, education\, best practices\, recognition and social activities.
URL:https://www.trucknews.com/event/nptc-annual-educational-management-conference-exhibition-2/
LOCATION:Orlando\, Florida
END:VEVENT
BEGIN:VEVENT
DTSTART;VALUE=DATE:20230507
DTEND;VALUE=DATE:20230511
DTSTAMP:20260420T012101
CREATED:20221104T151321Z
LAST-MODIFIED:20230117T141959Z
UID:1003170364-1683417600-1683763199@www.trucknews.com
SUMMARY:CTRF 58th Annual Conference
DESCRIPTION:Canadian Transportation Research Forum’s annual conference.
URL:https://www.trucknews.com/event/ctrf-58th-annual-conference/
LOCATION:Hyatt Regency Toronto\, 370 King Street West\, Toronto\, Ontario
END:VEVENT
BEGIN:VEVENT
DTSTART;VALUE=DATE:20230508
DTEND;VALUE=DATE:20230511
DTSTAMP:20260420T012101
CREATED:20221104T130721Z
LAST-MODIFIED:20230117T141923Z
UID:1003170330-1683504000-1683763199@www.trucknews.com
SUMMARY:Intermodal Operations\, Safety & Maintenance Business Meeting
DESCRIPTION:Intermodal Association of North America’s meeting is a dynamic educational event\, bringing intermodal professionals together to exchange ideas through roundtable discussions and committee meetings.
URL:https://www.trucknews.com/event/intermodal-operations-safety-maintenance-business-meeting-2/
LOCATION:Oak Brook\, Illinois
END:VEVENT
BEGIN:VEVENT
DTSTART;TZID=America/Toronto:20230508T120000
DTEND;TZID=America/Toronto:20230509T115959
DTSTAMP:20260420T012101
CREATED:20230207T193934Z
LAST-MODIFIED:20230414T141233Z
UID:1003172530-1683547200-1683633599@www.trucknews.com
SUMMARY:TTC Spring Golf Tournament
DESCRIPTION:Toronto Transportation Club golf event.
URL:https://www.trucknews.com/event/ttc-spring-golf-tournament/
LOCATION:RattleSnake Point Golf Club\, 5407 Regional Rd 25\, Milton\, Ontario
END:VEVENT
BEGIN:VEVENT
DTSTART;TZID=America/Toronto:20230509T083000
DTEND;TZID=America/Toronto:20230509T083000
DTSTAMP:20260420T012101
CREATED:20230207T183658Z
LAST-MODIFIED:20230418T190039Z
UID:1003172505-1683621000-1683621000@www.trucknews.com
SUMMARY:OTA Annual Spring Golf Classic
DESCRIPTION:Ontario Trucking Association’s golf event
URL:https://www.trucknews.com/event/ota-annual-spring-golf-classic/
LOCATION:Glencairn Golf Club\, 9807 Regional Road 25\, Milton\, ON\, L9T 2X7\, Canada
END:VEVENT
BEGIN:VEVENT
DTSTART;TZID=America/Toronto:20230511T170000
DTEND;TZID=America/Toronto:20230511T183000
DTSTAMP:20260420T012101
CREATED:20230426T144428Z
LAST-MODIFIED:20230502T120658Z
UID:1003174582-1683824400-1683829800@www.trucknews.com
SUMMARY:TTA AGM and networking event
DESCRIPTION:Toronto Transportation Association’s annual general meeting and networking event.
URL:https://www.trucknews.com/event/tta-agm-and-networking-event/
LOCATION:Spirit of York Distillery Company\, 12 Trinity Street\, Toronto
END:VEVENT
BEGIN:VEVENT
DTSTART;VALUE=DATE:20230525
DTEND;VALUE=DATE:20230528
DTSTAMP:20260420T012101
CREATED:20221102T193138Z
LAST-MODIFIED:20221102T193138Z
UID:1003170263-1684972800-1685231999@www.trucknews.com
SUMMARY:ExpoCam 2023
DESCRIPTION:The meeting place for Canada’s trucking industry\, offering new products\, ideas and showcasing trucks\, equipment and technology.
URL:https://www.trucknews.com/event/expocam-2023/
LOCATION:Espace St-Hyacinthe\, 2670 Beauparlant Avenue\, St-Hyacinthe\, Quebec\, J2S 4M8\, Canada
END:VEVENT
BEGIN:VEVENT
DTSTART;TZID=America/Toronto:20230526T120000
DTEND;TZID=America/Toronto:20230528T115959
DTSTAMP:20260420T012101
CREATED:20230523T175548Z
LAST-MODIFIED:20230523T175548Z
UID:1003175328-1685102400-1685275199@www.trucknews.com
SUMMARY:Canada North Resources Expo
DESCRIPTION:Event showcasing products\, services\, and technologies that are shaping the industry’s future.
URL:https://www.trucknews.com/event/canada-north-resources-expo/
LOCATION:CN Centre\, 2187 Ospika Boulevard\, Prince George\, British Columbia
END:VEVENT
BEGIN:VEVENT
DTSTART;TZID=America/Toronto:20230531T083000
DTEND;TZID=America/Toronto:20230531T163000
DTSTAMP:20260420T012101
CREATED:20221104T135724Z
LAST-MODIFIED:20230502T192011Z
UID:1003170343-1685521800-1685550600@www.trucknews.com
SUMMARY:PMTC Spring Golf Tournament
DESCRIPTION:Private Motor Truck Council of Canada’s golf event.
URL:https://www.trucknews.com/event/pmtc-spring-golf-tournament-2/
LOCATION:Carlisle Golf Club\, 523 Carlisle Rd\, Carlsile\, Ontario
END:VEVENT
END:VCALENDAR