BEGIN:VCALENDAR
VERSION:2.0
PRODID:-//Truck News - ECPv6.15.20//NONSGML v1.0//EN
CALSCALE:GREGORIAN
METHOD:PUBLISH
X-ORIGINAL-URL:https://www.trucknews.com
X-WR-CALDESC:Events for Truck News
REFRESH-INTERVAL;VALUE=DURATION:PT1H
X-Robots-Tag:noindex
X-PUBLISHED-TTL:PT1H
BEGIN:VTIMEZONE
TZID:America/Toronto
BEGIN:DAYLIGHT
TZOFFSETFROM:-0500
TZOFFSETTO:-0400
TZNAME:EDT
DTSTART:20220313T070000
END:DAYLIGHT
BEGIN:STANDARD
TZOFFSETFROM:-0400
TZOFFSETTO:-0500
TZNAME:EST
DTSTART:20221106T060000
END:STANDARD
BEGIN:DAYLIGHT
TZOFFSETFROM:-0500
TZOFFSETTO:-0400
TZNAME:EDT
DTSTART:20230312T070000
END:DAYLIGHT
BEGIN:STANDARD
TZOFFSETFROM:-0400
TZOFFSETTO:-0500
TZNAME:EST
DTSTART:20231105T060000
END:STANDARD
BEGIN:DAYLIGHT
TZOFFSETFROM:-0500
TZOFFSETTO:-0400
TZNAME:EDT
DTSTART:20240310T070000
END:DAYLIGHT
BEGIN:STANDARD
TZOFFSETFROM:-0400
TZOFFSETTO:-0500
TZNAME:EST
DTSTART:20241103T060000
END:STANDARD
END:VTIMEZONE
BEGIN:VEVENT
DTSTART;TZID=America/Toronto:20230601T063000
DTEND;TZID=America/Toronto:20230601T150000
DTSTAMP:20260419T234410
CREATED:20230426T144002Z
LAST-MODIFIED:20230502T192045Z
UID:1003174580-1685601000-1685631600@www.trucknews.com
SUMMARY:TTA annual golf tournament
DESCRIPTION:Toronto Trucking Association golf event.
URL:https://www.trucknews.com/event/tta-annual-golf-tournament/
LOCATION:LIONHEAD GOLF & COUNTRY CLUB\, 8525 MISSISSAUGA ROAD\, Brampton\, Ontario\, Canada
END:VEVENT
BEGIN:VEVENT
DTSTART;VALUE=DATE:20230604
DTEND;VALUE=DATE:20230608
DTSTAMP:20260419T234410
CREATED:20221102T200306Z
LAST-MODIFIED:20221102T200306Z
UID:1003170277-1685836800-1686182399@www.trucknews.com
SUMMARY:WERC’s Annual Conference
DESCRIPTION:Warehousing Education and Research Council’s annual event.
URL:https://www.trucknews.com/event/wercs-annual-conference-2/
LOCATION:Orlando\, Florida
END:VEVENT
BEGIN:VEVENT
DTSTART;TZID=America/Toronto:20230604T120000
DTEND;TZID=America/Toronto:20230607T115959
DTSTAMP:20260419T234410
CREATED:20230411T135114Z
LAST-MODIFIED:20230607T131619Z
UID:1003174183-1685880000-1686139199@www.trucknews.com
SUMMARY:Canada's Logistics Conference
DESCRIPTION:Industry’s annual thought leadership and networking event.
URL:https://www.trucknews.com/event/canadas-logistics-conference/
LOCATION:Sheraton Cavalier Hotel\, 612 Spadina Crescent East\, Saskatoon\, Saskatchewan
END:VEVENT
BEGIN:VEVENT
DTSTART;TZID=America/Toronto:20230606T120000
DTEND;TZID=America/Toronto:20230606T120000
DTSTAMP:20260419T234410
CREATED:20230503T121209Z
LAST-MODIFIED:20230503T121209Z
UID:1003174874-1686052800-1686052800@www.trucknews.com
SUMMARY:DRTA golf tournament
DESCRIPTION:Durham Region Transportation Association’s 10th annual charity event
URL:https://www.trucknews.com/event/drta-golf-tournament/
LOCATION:Deer Creek\, 2700 Audley Road\, Ajax\, Ontario
END:VEVENT
BEGIN:VEVENT
DTSTART;VALUE=DATE:20230607
DTEND;VALUE=DATE:20230608
DTSTAMP:20260419T234410
CREATED:20230207T194443Z
LAST-MODIFIED:20230207T194443Z
UID:1003172534-1686096000-1686182399@www.trucknews.com
SUMMARY:TTC Ladies' Lunch
DESCRIPTION:Toronto Transportation Club event.
URL:https://www.trucknews.com/event/ttc-ladies-lunch-3/
LOCATION:Palais Royale\, 1601 Lake Shore Blvd. West\, Toronto\, ON\, M6K 3C1\, Canada
END:VEVENT
BEGIN:VEVENT
DTSTART;TZID=America/Toronto:20230608T120000
DTEND;TZID=America/Toronto:20230611T115959
DTSTAMP:20260419T234410
CREATED:20230426T143417Z
LAST-MODIFIED:20230426T143417Z
UID:1003174574-1686225600-1686484799@www.trucknews.com
SUMMARY:2023 Shell Rotella SuperRigs
DESCRIPTION:Truck beauty contest that recognizes and celebrates drivers and their trucks. Owner/operators from the United States and Canada compete annually for more than $25\,000 in cash and prizes. Twelve drivers will be selected to have their trucks featured in the annual Shell Rotella SuperRigs calendar.
URL:https://www.trucknews.com/event/2023-shell-rotella-superrigs/
LOCATION:CAM-PLEX\, 1635 Reata Dr\, Gillette\, Wyoming
END:VEVENT
BEGIN:VEVENT
DTSTART;VALUE=DATE:20230609
DTEND;VALUE=DATE:20230612
DTSTAMP:20260419T234410
CREATED:20230207T191131Z
LAST-MODIFIED:20230207T191131Z
UID:1003172520-1686268800-1686527999@www.trucknews.com
SUMMARY:BCTA AGM and Management Conference
DESCRIPTION:B.C. Trucking Association’s event offering information on industry issues and networking opportunities.
URL:https://www.trucknews.com/event/bcta-agm-and-management-conference-2/
LOCATION:Marriott Grand Okanagan Resort\, Kelowna\, British Columbia
END:VEVENT
BEGIN:VEVENT
DTSTART;VALUE=DATE:20230610
DTEND;VALUE=DATE:20230611
DTSTAMP:20260419T234410
CREATED:20230302T141811Z
LAST-MODIFIED:20230302T141811Z
UID:1003173182-1686355200-1686441599@www.trucknews.com
SUMMARY:AMTA Professional Truck Driving Championship
DESCRIPTION:Alberta Motor Transport Association event
URL:https://www.trucknews.com/event/amta-professional-truck-driving-championship/
LOCATION:Edmonton\, Edmonton\, Alberta
END:VEVENT
BEGIN:VEVENT
DTSTART;TZID=America/Toronto:20230617T120000
DTEND;TZID=America/Toronto:20230618T115959
DTSTAMP:20260419T234410
CREATED:20230529T154618Z
LAST-MODIFIED:20230616T123032Z
UID:1003175497-1687003200-1687089599@www.trucknews.com
SUMMARY:Manitoba Professional Truck Driving Championship
DESCRIPTION:Manitoba Trucking Association event showcasing skills\, knowledge and professionalism of truck drivers. The event is followed by the driver awards banquet.
URL:https://www.trucknews.com/event/manitoba-professional-truck-driving-championship/
LOCATION:Headingly Husky Travel Centre
END:VEVENT
BEGIN:VEVENT
DTSTART;VALUE=DATE:20230621
DTEND;VALUE=DATE:20230622
DTSTAMP:20260419T234410
CREATED:20221104T152443Z
LAST-MODIFIED:20221104T152443Z
UID:1003170367-1687305600-1687391999@www.trucknews.com
SUMMARY:APTA Charity Golf Tournament
DESCRIPTION:Atlantic Provinces Trucking Association’s charity golf event.
URL:https://www.trucknews.com/event/apta-charity-golf-tournament-2/
LOCATION:Ontario
END:VEVENT
BEGIN:VEVENT
DTSTART;VALUE=DATE:20230621
DTEND;VALUE=DATE:20230624
DTSTAMP:20260419T234410
CREATED:20221104T145119Z
LAST-MODIFIED:20221104T145119Z
UID:1003170354-1687305600-1687564799@www.trucknews.com
SUMMARY:PMTC Annual Conference
DESCRIPTION:Private Motor Truck Council of Canada’s annual event.
URL:https://www.trucknews.com/event/pmtc-annual-conference/
LOCATION:Hamilton Convention Centre by Carmen’s\, 1 Summers Lane\, Hamilton\, Ontario
END:VEVENT
BEGIN:VEVENT
DTSTART;TZID=America/Toronto:20230622T120000
DTEND;TZID=America/Toronto:20230623T115959
DTSTAMP:20260419T234410
CREATED:20230529T170641Z
LAST-MODIFIED:20230529T170641Z
UID:1003175508-1687435200-1687521599@www.trucknews.com
SUMMARY:AMTA's Calgary Golf Tournament
DESCRIPTION:Alberta Motor Transport Association’s golf event.
URL:https://www.trucknews.com/event/amtas-calgary-golf-tournament/
LOCATION:Blue Devil Golf Club\, 2300 194 Ave SE\, Calgary\, Alberta
END:VEVENT
BEGIN:VEVENT
DTSTART;TZID=America/Toronto:20230630T120000
DTEND;TZID=America/Toronto:20230702T115959
DTSTAMP:20260419T234410
CREATED:20230602T115737Z
LAST-MODIFIED:20230602T115737Z
UID:1003175622-1688126400-1688299199@www.trucknews.com
SUMMARY:Antique & Classic Clifford Truck Show
DESCRIPTION:Truck show organized by Great Lakes Club
URL:https://www.trucknews.com/event/antique-classic-clifford-truck-show/
LOCATION:Clifford Rotary Park\, Elora St. S\, Clifford\, Ontario\, N0G 1M0
END:VEVENT
END:VCALENDAR