BEGIN:VCALENDAR
VERSION:2.0
PRODID:-//Truck News - ECPv6.15.20//NONSGML v1.0//EN
CALSCALE:GREGORIAN
METHOD:PUBLISH
X-WR-CALNAME:Truck News
X-ORIGINAL-URL:https://www.trucknews.com
X-WR-CALDESC:Events for Truck News
REFRESH-INTERVAL;VALUE=DURATION:PT1H
X-Robots-Tag:noindex
X-PUBLISHED-TTL:PT1H
BEGIN:VTIMEZONE
TZID:America/Toronto
BEGIN:DAYLIGHT
TZOFFSETFROM:-0500
TZOFFSETTO:-0400
TZNAME:EDT
DTSTART:20220313T070000
END:DAYLIGHT
BEGIN:STANDARD
TZOFFSETFROM:-0400
TZOFFSETTO:-0500
TZNAME:EST
DTSTART:20221106T060000
END:STANDARD
BEGIN:DAYLIGHT
TZOFFSETFROM:-0500
TZOFFSETTO:-0400
TZNAME:EDT
DTSTART:20230312T070000
END:DAYLIGHT
BEGIN:STANDARD
TZOFFSETFROM:-0400
TZOFFSETTO:-0500
TZNAME:EST
DTSTART:20231105T060000
END:STANDARD
BEGIN:DAYLIGHT
TZOFFSETFROM:-0500
TZOFFSETTO:-0400
TZNAME:EDT
DTSTART:20240310T070000
END:DAYLIGHT
BEGIN:STANDARD
TZOFFSETFROM:-0400
TZOFFSETTO:-0500
TZNAME:EST
DTSTART:20241103T060000
END:STANDARD
END:VTIMEZONE
BEGIN:VTIMEZONE
TZID:America/Regina
BEGIN:STANDARD
TZOFFSETFROM:-0600
TZOFFSETTO:-0600
TZNAME:CST
DTSTART:20220101T000000
END:STANDARD
END:VTIMEZONE
BEGIN:VEVENT
DTSTART;VALUE=DATE:20230815
DTEND;VALUE=DATE:20230820
DTSTAMP:20260419T201633
CREATED:20220822T165426Z
LAST-MODIFIED:20220822T165426Z
UID:1003168369-1692057600-1692489599@www.trucknews.com
SUMMARY:North American Inspectors Championship
DESCRIPTION:CVSA’s North American Inspectors Championship tests\, recognizes and awards commercial motor vehicle inspector excellence.
URL:https://www.trucknews.com/event/north-american-inspectors-championship-6/
LOCATION:Columbus\, Ohio
END:VEVENT
BEGIN:VEVENT
DTSTART;TZID=America/Toronto:20230816T120000
DTEND;TZID=America/Toronto:20230820T115959
DTSTAMP:20260419T201633
CREATED:20221104T170958Z
LAST-MODIFIED:20230817T121056Z
UID:1003170383-1692187200-1692532799@www.trucknews.com
SUMMARY:NTDC 2023
DESCRIPTION:American Trucking Associations’ Safety Management Council’s 2023 National Truck Driving Championships.
URL:https://www.trucknews.com/event/ntdc-2023/
LOCATION:Columbus\, Ohio
END:VEVENT
BEGIN:VEVENT
DTSTART;TZID=America/Toronto:20230822T120000
DTEND;TZID=America/Toronto:20230825T115959
DTSTAMP:20260419T201633
CREATED:20230627T124900Z
LAST-MODIFIED:20230823T122643Z
UID:1003176279-1692705600-1692964799@www.trucknews.com
SUMMARY:Green Transportation Summit and Expo 2023
DESCRIPTION:The event brings together industry leaders\, innovators\, and policymakers to showcase the latest advancements in medium and heavy duty transportation. The summit will highlight transformative fuels\, strategies\, and policies that are propelling sustainable mobility forward.
URL:https://www.trucknews.com/event/green-transportation-summit-and-expo-2023/
LOCATION:Tacoma Convention Center\, 1500 Commerce St\, Tacoma\, Washington
END:VEVENT
BEGIN:VEVENT
DTSTART;TZID=America/Regina:20230825T080000
DTEND;TZID=America/Regina:20230825T200000
DTSTAMP:20260419T201633
CREATED:20230207T181538Z
LAST-MODIFIED:20230207T181538Z
UID:1003172501-1692950400-1692993600@www.trucknews.com
SUMMARY:STA Golf Classic
DESCRIPTION:Saskatchewan Trucking Association’s golf event.
URL:https://www.trucknews.com/event/sta-golf-classic/
LOCATION:Dakota Dunes Resort\, 203 Dakota Dunes Way\, Whitecap\, Saskatchewan
END:VEVENT
BEGIN:VEVENT
DTSTART;VALUE=DATE:20230830
DTEND;VALUE=DATE:20230831
DTSTAMP:20260419T201633
CREATED:20230207T184909Z
LAST-MODIFIED:20230207T184909Z
UID:1003172513-1693353600-1693439999@www.trucknews.com
SUMMARY:APTA Summer Golf Tournament
DESCRIPTION:Atlantic Provinces Trucking Association’s golf event.
URL:https://www.trucknews.com/event/apta-summer-golf-tournament/
LOCATION:Ontario
END:VEVENT
END:VCALENDAR