BEGIN:VCALENDAR
VERSION:2.0
PRODID:-//Truck News - ECPv6.15.20//NONSGML v1.0//EN
CALSCALE:GREGORIAN
METHOD:PUBLISH
X-WR-CALNAME:Truck News
X-ORIGINAL-URL:https://www.trucknews.com
X-WR-CALDESC:Events for Truck News
REFRESH-INTERVAL;VALUE=DURATION:PT1H
X-Robots-Tag:noindex
X-PUBLISHED-TTL:PT1H
BEGIN:VTIMEZONE
TZID:America/Toronto
BEGIN:DAYLIGHT
TZOFFSETFROM:-0500
TZOFFSETTO:-0400
TZNAME:EDT
DTSTART:20200308T070000
END:DAYLIGHT
BEGIN:STANDARD
TZOFFSETFROM:-0400
TZOFFSETTO:-0500
TZNAME:EST
DTSTART:20201101T060000
END:STANDARD
BEGIN:DAYLIGHT
TZOFFSETFROM:-0500
TZOFFSETTO:-0400
TZNAME:EDT
DTSTART:20210314T070000
END:DAYLIGHT
BEGIN:STANDARD
TZOFFSETFROM:-0400
TZOFFSETTO:-0500
TZNAME:EST
DTSTART:20211107T060000
END:STANDARD
BEGIN:DAYLIGHT
TZOFFSETFROM:-0500
TZOFFSETTO:-0400
TZNAME:EDT
DTSTART:20220313T070000
END:DAYLIGHT
BEGIN:STANDARD
TZOFFSETFROM:-0400
TZOFFSETTO:-0500
TZNAME:EST
DTSTART:20221106T060000
END:STANDARD
END:VTIMEZONE
BEGIN:VEVENT
DTSTART;TZID=America/Toronto:20210923T180000
DTEND;TZID=America/Toronto:20210923T180000
DTSTAMP:20260423T000720
CREATED:20210901T172049Z
LAST-MODIFIED:20210901T172049Z
UID:1003153296-1632420000-1632420000@www.trucknews.com
SUMMARY:Delta Nu Alpha Mini Golf and BBQ
DESCRIPTION:Delta Nu Alpha Transportation Network’s fun social evening of mini golf accompanied by a barbeque dinner at the Centennial Park Golf Centre \n 
URL:https://www.trucknews.com/event/delta-nu-alpha-mini-golf-and-bbq/
LOCATION:Centennial Park Golf Centre\, 550 Centennial Park Blvd\, Toronto\, Ontario\, Canada
END:VEVENT
END:VCALENDAR