BEGIN:VCALENDAR
VERSION:2.0
PRODID:-//Truck News - ECPv6.15.20//NONSGML v1.0//EN
CALSCALE:GREGORIAN
METHOD:PUBLISH
X-WR-CALNAME:Truck News
X-ORIGINAL-URL:https://www.trucknews.com
X-WR-CALDESC:Events for Truck News
REFRESH-INTERVAL;VALUE=DURATION:PT1H
X-Robots-Tag:noindex
X-PUBLISHED-TTL:PT1H
BEGIN:VTIMEZONE
TZID:America/Toronto
BEGIN:DAYLIGHT
TZOFFSETFROM:-0500
TZOFFSETTO:-0400
TZNAME:EDT
DTSTART:20240310T070000
END:DAYLIGHT
BEGIN:STANDARD
TZOFFSETFROM:-0400
TZOFFSETTO:-0500
TZNAME:EST
DTSTART:20241103T060000
END:STANDARD
BEGIN:DAYLIGHT
TZOFFSETFROM:-0500
TZOFFSETTO:-0400
TZNAME:EDT
DTSTART:20250309T070000
END:DAYLIGHT
BEGIN:STANDARD
TZOFFSETFROM:-0400
TZOFFSETTO:-0500
TZNAME:EST
DTSTART:20251102T060000
END:STANDARD
BEGIN:DAYLIGHT
TZOFFSETFROM:-0500
TZOFFSETTO:-0400
TZNAME:EDT
DTSTART:20260308T070000
END:DAYLIGHT
BEGIN:STANDARD
TZOFFSETFROM:-0400
TZOFFSETTO:-0500
TZNAME:EST
DTSTART:20261101T060000
END:STANDARD
END:VTIMEZONE
BEGIN:VEVENT
DTSTART;TZID=America/Toronto:20251111T080000
DTEND;TZID=America/Toronto:20251112T170000
DTSTAMP:20260422T084354
CREATED:20250502T143758Z
LAST-MODIFIED:20250502T143759Z
UID:1003196697-1762848000-1762966800@www.trucknews.com
SUMMARY:Annual OTA Executive Conference
DESCRIPTION:Annual 99th Ontario Trucking Association’s executive conference
URL:https://www.trucknews.com/event/annual-ota-executive-conference/
LOCATION:Delta Hotels Toronto\, 75 Lower Simcoe Street\, Toronto\, ON\, M5J 3A6\, Canada
END:VEVENT
BEGIN:VEVENT
DTSTART;TZID=America/Toronto:20251116T080000
DTEND;TZID=America/Toronto:20251118T170000
DTSTAMP:20260422T084354
CREATED:20241107T185641Z
LAST-MODIFIED:20241107T185642Z
UID:1003191017-1763280000-1763485200@www.trucknews.com
SUMMARY:Trimble Insight Tech Conference + Expo
DESCRIPTION:A collaborative event to share ideas and work together to help transportation become more connected and efficient. The event brings together some of the biggest names in the transportation industry – including customers\, integration partners and other technology vendors – for networking\, education and to explore how technology is transforming the supply chain.
URL:https://www.trucknews.com/event/trimble-insight-tech-conference-expo/
LOCATION:New Orleans\, New Orleans\, LA\, United States
END:VEVENT
END:VCALENDAR