BEGIN:VCALENDAR
VERSION:2.0
PRODID:-//Truck News - ECPv6.15.20//NONSGML v1.0//EN
CALSCALE:GREGORIAN
METHOD:PUBLISH
X-ORIGINAL-URL:https://www.trucknews.com
X-WR-CALDESC:Events for Truck News
REFRESH-INTERVAL;VALUE=DURATION:PT1H
X-Robots-Tag:noindex
X-PUBLISHED-TTL:PT1H
BEGIN:VTIMEZONE
TZID:America/Toronto
BEGIN:DAYLIGHT
TZOFFSETFROM:-0500
TZOFFSETTO:-0400
TZNAME:EDT
DTSTART:20200308T070000
END:DAYLIGHT
BEGIN:STANDARD
TZOFFSETFROM:-0400
TZOFFSETTO:-0500
TZNAME:EST
DTSTART:20201101T060000
END:STANDARD
BEGIN:DAYLIGHT
TZOFFSETFROM:-0500
TZOFFSETTO:-0400
TZNAME:EDT
DTSTART:20210314T070000
END:DAYLIGHT
BEGIN:STANDARD
TZOFFSETFROM:-0400
TZOFFSETTO:-0500
TZNAME:EST
DTSTART:20211107T060000
END:STANDARD
BEGIN:DAYLIGHT
TZOFFSETFROM:-0500
TZOFFSETTO:-0400
TZNAME:EDT
DTSTART:20220313T070000
END:DAYLIGHT
BEGIN:STANDARD
TZOFFSETFROM:-0400
TZOFFSETTO:-0500
TZNAME:EST
DTSTART:20221106T060000
END:STANDARD
END:VTIMEZONE
BEGIN:VEVENT
DTSTART;TZID=America/Toronto:20210922T100000
DTEND;TZID=America/Toronto:20210923T180000
DTSTAMP:20260423T013659
CREATED:20210316T144746Z
LAST-MODIFIED:20210317T152402Z
UID:1003149651-1632304800-1632420000@www.trucknews.com
SUMMARY:ExpoCam 2021: The meeting place for Canada's trucking industry
DESCRIPTION:The meeting place for Canada’s trucking industry\nNew products\, new ideas\, new solutions.\nTrucks\, equipment and technology. \nExpoCam takes place at m\nSt-Hyacinthe is situated about 60 kms east of Montreal\nand 185 kms of Quebec City. Easy access by Highway 20
URL:https://www.trucknews.com/event/expocam-2021-the-meeting-place-for-canadas-trucking-industry/
LOCATION:Espace St-Hyacinthe\, 2670 Beauparlant Avenue\, St-Hyacinthe\, Quebec\, J2S 4M8\, Canada
ORGANIZER;CN="Newcom Media Inc.":MAILTO:thierry@truckworld.ca
END:VEVENT
END:VCALENDAR